BEGIN:VCALENDAR
VERSION:2.0
PRODID:-//wp-events-plugin.com//7.2.3.1//EN
TZID:Europe/London
X-WR-TIMEZONE:Europe/London
BEGIN:VEVENT
UID:1-8645@westbourneforum.org.uk
DTSTART;TZID=Europe/London:20231025T110000
DTEND;TZID=Europe/London:20231025T160000
DTSTAMP:20231018T025659Z
URL:https://westbourneforum.org.uk/events/kulan-october-half-term-2023-10-
 25/
SUMMARY:Kulan October Half-Term
DESCRIPTION:Kulan Somali Organisation is inviting children between the ages
  of 5 - 14 years old to join our Easter holiday activities program.\n\nKul
 an Spotlight Club offers a range of fun\, creative\, and adventurous outdo
 or and indoor activities to help make Christmas 2022 an enjoyable one for 
 children in Westminster.\n\nDetails of free meal provided: Free healthy lu
 nch\, snacks and refreshments provided\n\nNearest bus stop: 18\nNearest tu
 be stop: Queens Park Station\n\nContact email: westhaf@kulankso.org\nConta
 ct phone number: 07377 866 118\n\nBooking required.\n\nAGE RANGE: 5 - 14
  | PRICE: FREE | ACTIVITY BY: KULAN SOMALI ORGANISATION\n\nourcity.or
 g.uk/westminster-half-term
ATTACH;FMTTYPE=image/jpeg:https://i0.wp.com/westbourneforum.org.uk/wp-cont
 ent/uploads/2023/10/Kulan-October-Half-Term-banner.webp?fit=800%2C445&ssl=
 1
LOCATION:Queen's Park Court Community Hall\, Droop St\, Queen's Park\, Engl
 and\, W10 4QA\, Westminster\, United Kingdom
GEO:51.528929;-0.213853
X-APPLE-STRUCTURED-LOCATION;VALUE=URI;X-ADDRESS=Droop St\, Queen's Park\, E
 ngland\, W10 4QA\, Westminster\, United Kingdom;X-APPLE-RADIUS=100;X-TITLE
 =Queen's Park Court Community Hall:geo:51.528929,-0.213853
ORGANIZER;CN="Westbourne Forum":MAILTO:westbourne-admin@westbourneforum.org.uk
END:VEVENT
BEGIN:VTIMEZONE
TZID:Europe/London
X-LIC-LOCATION:Europe/London
BEGIN:DAYLIGHT
DTSTART:20230326T020000
TZOFFSETFROM:+0000
TZOFFSETTO:+0100
TZNAME:BST
END:DAYLIGHT
END:VTIMEZONE
END:VCALENDAR