BEGIN:VCALENDAR
VERSION:2.0
PRODID:-//wp-events-plugin.com//7.2.3.1//EN
TZID:Europe/London
X-WR-TIMEZONE:Europe/London
BEGIN:VEVENT
UID:1-13464@westbourneforum.org.uk
DTSTART;TZID=Europe/London:20241021T160000
DTEND;TZID=Europe/London:20241021T173000
DTSTAMP:20240819T185001Z
URL:https://westbourneforum.org.uk/events/junction-juniors-2-2024-10-21/
SUMMARY:Junction Juniors
DESCRIPTION:For children aged 7 - 11 (in school years 3 - 6)\n\nFREE\n\nWor
 king with highly skilled and experienced facilitators we will lead the gro
 up through a series of creative activities including art\, drama\, dance a
 nd more and end with an informal performance to parents and carers.\n\nTo 
 book your child’s place please fill out our application form here\, and
  click submit when completed.\n\nFurther details
ATTACH;FMTTYPE=image/jpeg:https://i0.wp.com/westbourneforum.org.uk/wp-cont
 ent/uploads/2024/08/Junction-Juniors-banner.webp?fit=800%2C445&ssl=1
LOCATION:Grand Junction\, St Mary Magdalene Church\, Rowington Close\, West
 minster\, London\, W2 5TF\, England\, United Kingdom
GEO:51.5224;-0.188497
X-APPLE-STRUCTURED-LOCATION;VALUE=URI;X-ADDRESS=St Mary Magdalene Church\, 
 Rowington Close\, Westminster\, London\, W2 5TF\, England\, United Kingdom
 ;X-APPLE-RADIUS=100;X-TITLE=Grand Junction:geo:51.5224,-0.188497
ORGANIZER;CN="Westbourne Forum":MAILTO:westbourne-admin@westbourneforum.org.uk
END:VEVENT
BEGIN:VTIMEZONE
TZID:Europe/London
X-LIC-LOCATION:Europe/London
BEGIN:DAYLIGHT
DTSTART:20240331T020000
TZOFFSETFROM:+0000
TZOFFSETTO:+0100
TZNAME:BST
END:DAYLIGHT
END:VTIMEZONE
END:VCALENDAR