BEGIN:VCALENDAR
VERSION:2.0
PRODID:-//wp-events-plugin.com//7.2.3.1//EN
TZID:Europe/London
X-WR-TIMEZONE:Europe/London
BEGIN:VEVENT
UID:1-14424@westbourneforum.org.uk
DTSTART;TZID=Europe/London:20241031T123000
DTEND;TZID=Europe/London:20241031T140000
DTSTAMP:20241016T001108Z
URL:https://westbourneforum.org.uk/events/jojays-community-lunch-club-3/
SUMMARY:Jojays Community Lunch Club
DESCRIPTION:\n\nFreshly made\, healthy\, plant-based hot lunch for the loca
 l community served at The Beethoven Centre.\n\nEat-in or take away only £
 3.00. Homemade reduced sugar cakes also for sale only £1.50. Delicious fo
 od in a community setting run by volunteers. We operate on a first come fi
 rst served basis.\n\nSee the flyer for more information. We will be celebr
 ating Black History Month in October with a Caribbean meal of rice and pea
 s\, channa dahl\, plantain and callaloo. All are welcome!\n\njojayscommuni
 tylunchclub@gmaiLcom\n\n07308 155 938\n\n
ATTACH;FMTTYPE=image/jpeg:https://i0.wp.com/westbourneforum.org.uk/wp-cont
 ent/uploads/2024/10/JCLC_Sep-Nov-24-2-banner-scaled.webp?fit=2560%2C1428&s
 sl=1
LOCATION:Beethoven Centre\, Third Avenue\, Queen's Park\, England\, W10 4JL
 \, Westminster\, United Kingdom
GEO:51.530701;-0.208573
X-APPLE-STRUCTURED-LOCATION;VALUE=URI;X-ADDRESS=Third Avenue\, Queen's Park
 \, England\, W10 4JL\, Westminster\, United Kingdom;X-APPLE-RADIUS=100;X-T
 ITLE=Beethoven Centre:geo:51.530701,-0.208573
ORGANIZER;CN="Westbourne Forum":MAILTO:westbourne-admin@westbourneforum.org.uk
END:VEVENT
BEGIN:VTIMEZONE
TZID:Europe/London
X-LIC-LOCATION:Europe/London
BEGIN:STANDARD
DTSTART:20241027T010000
TZOFFSETFROM:+0100
TZOFFSETTO:+0000
TZNAME:GMT
END:STANDARD
END:VTIMEZONE
END:VCALENDAR