BEGIN:VCALENDAR
VERSION:2.0
PRODID:-//wp-events-plugin.com//7.2.3.1//EN
TZID:Europe/London
X-WR-TIMEZONE:Europe/London
BEGIN:VEVENT
UID:1-5991@westbourneforum.org.uk
DTSTART;TZID=Europe/London:20230606T110000
DTEND;TZID=Europe/London:20230606T140000
DTSTAMP:20230511T192158Z
URL:https://westbourneforum.org.uk/events/insight-into-industry-hospitalit
 y-skills/
SUMMARY:Insight into industry - Hospitality Skills
DESCRIPTION:The day will consist of the Mayor’s Academy Programme Hubs ex
 plaining the different kinds of roles within the Hospitality and Creative 
 sectors and will also have a live demonstration of some of the roles withi
 n these sectors.\n\nClients will be given an opportunity to ask the indust
 ry professionals questions about possible employment and training routes a
 nd opportunities.\nwww.eventbrite.com/e/insight-into-industry-tickets-6308
 05053897
ATTACH;FMTTYPE=image/jpeg:https://i0.wp.com/westbourneforum.org.uk/wp-cont
 ent/uploads/2023/05/A5-PDT-InsightEvent-HOSPITALITY-header-1.webp?fit=2466
 %2C1372&ssl=1
LOCATION:Westbourne Park Baptist Church\, Porchester Road\, London\, Englan
 d\, W2 5DX\, Westminster\, United Kingdom
GEO:51.518639;-0.189492
X-APPLE-STRUCTURED-LOCATION;VALUE=URI;X-ADDRESS=Porchester Road\, London\, 
 England\, W2 5DX\, Westminster\, United Kingdom;X-APPLE-RADIUS=100;X-TITLE
 =Westbourne Park Baptist Church:geo:51.518639,-0.189492
ORGANIZER;CN="Westbourne Forum":MAILTO:westbourne-admin@westbourneforum.org.uk
END:VEVENT
BEGIN:VTIMEZONE
TZID:Europe/London
X-LIC-LOCATION:Europe/London
BEGIN:DAYLIGHT
DTSTART:20230326T020000
TZOFFSETFROM:+0000
TZOFFSETTO:+0100
TZNAME:BST
END:DAYLIGHT
END:VTIMEZONE
END:VCALENDAR