BEGIN:VCALENDAR
VERSION:2.0
PRODID:-//wp-events-plugin.com//7.2.3.1//EN
TZID:Europe/London
X-WR-TIMEZONE:Europe/London
BEGIN:VEVENT
UID:1-10753@westbourneforum.org.uk
DTSTART;TZID=Europe/London:20240402T140000
DTEND;TZID=Europe/London:20240402T160000
DTSTAMP:20240316T211618Z
URL:https://westbourneforum.org.uk/events/how-to-start-a-business-for-free
 /
SUMMARY:How to Start a Business For Free
DESCRIPTION:If you’ve got an idea for a new business or want to make a bi
 t of money on the side\, The Rebel School is here to build your skills and
  knowledge to become an entrepreneur.\n\nThe team will be at Rebel HQ at 4
 70 Harrow Road to run a two-hour taster session that will help you take ac
 tion\, make progress and build a business around your passion.\n\nThese ta
 ster sessions are running to celebrate the launch of our full two-week pro
 gramme starting in Westminster on 8th April: therebelschool.com/westminst
 er\n\nBooking
ATTACH;FMTTYPE=image/jpeg:https://i0.wp.com/westbourneforum.org.uk/wp-cont
 ent/uploads/2024/03/How-to-Start-a-Business-For-Free-Westminster-Rebel-Tas
 ter-Session-banner.webp?fit=800%2C445&ssl=1
LOCATION:The Rebel School\, 470 Harrow Road\, London\, England\, W9 3RU\, W
 estminster\, United Kingdom
GEO:51.524062;-0.200607
X-APPLE-STRUCTURED-LOCATION;VALUE=URI;X-ADDRESS=470 Harrow Road\, London\, 
 England\, W9 3RU\, Westminster\, United Kingdom;X-APPLE-RADIUS=100;X-TITLE
 =The Rebel School:geo:51.524062,-0.200607
ORGANIZER;CN="Westbourne Forum":MAILTO:westbourne-admin@westbourneforum.org.uk
END:VEVENT
BEGIN:VTIMEZONE
TZID:Europe/London
X-LIC-LOCATION:Europe/London
BEGIN:DAYLIGHT
DTSTART:20240331T020000
TZOFFSETFROM:+0000
TZOFFSETTO:+0100
TZNAME:BST
END:DAYLIGHT
END:VTIMEZONE
END:VCALENDAR