BEGIN:VCALENDAR
VERSION:2.0
PRODID:-//wp-events-plugin.com//7.2.3.1//EN
TZID:Europe/London
X-WR-TIMEZONE:Europe/London
BEGIN:VEVENT
UID:1-8750@westbourneforum.org.uk
DTSTART;TZID=Europe/London:20231111T143000
DTEND;TZID=Europe/London:20231111T163000
DTSTAMP:20231110T182510Z
URL:https://westbourneforum.org.uk/events/homemade-beauty-products-with-ki
 tchen-ingredients/
SUMMARY:Homemade beauty products with kitchen ingredients
DESCRIPTION:\n\nvivi.wallenius@gmail.com
ATTACH;FMTTYPE=image/jpeg:https://i0.wp.com/westbourneforum.org.uk/wp-cont
 ent/uploads/2023/11/Homemade-beauty-products-with-kitchen-ingredients-bann
 er.webp?fit=902%2C501&ssl=1
LOCATION:Beethoven Centre\, Third Avenue\, Queen's Park\, England\, W10 4JL
 \, Westminster\, United Kingdom
GEO:51.530701;-0.208573
X-APPLE-STRUCTURED-LOCATION;VALUE=URI;X-ADDRESS=Third Avenue\, Queen's Park
 \, England\, W10 4JL\, Westminster\, United Kingdom;X-APPLE-RADIUS=100;X-T
 ITLE=Beethoven Centre:geo:51.530701,-0.208573
ORGANIZER;CN="Westbourne Forum":MAILTO:westbourne-admin@westbourneforum.org.uk
END:VEVENT
BEGIN:VTIMEZONE
TZID:Europe/London
X-LIC-LOCATION:Europe/London
BEGIN:STANDARD
DTSTART:20231029T010000
TZOFFSETFROM:+0100
TZOFFSETTO:+0000
TZNAME:GMT
END:STANDARD
END:VTIMEZONE
END:VCALENDAR