BEGIN:VCALENDAR
VERSION:2.0
PRODID:-//wp-events-plugin.com//7.2.3.1//EN
TZID:Europe/London
X-WR-TIMEZONE:Europe/London
BEGIN:VEVENT
UID:1-14949@westbourneforum.org.uk
DTSTART;TZID=Europe/London:20241217T160000
DTEND;TZID=Europe/London:20241217T190000
DTSTAMP:20241205T030832Z
URL:https://westbourneforum.org.uk/events/helping-hands-application-suppor
 t-3/
SUMMARY:Helping Hands Application Support
DESCRIPTION:We are pleased to share\, that our Helping Hands Community Fund
 \, is open to receive applications for the third year running.\n\nThe Comm
 unity Fund is a community-led grants initiative that awards funding to org
 anisations and individuals working in partnership with local organisations
  to deliver projects directly with community members and/or young people. 
 The fund focuses on opportunities for prevention and intervention for yout
 h violence in the community.\n\nThis funding has been made available throu
 gh contributions from Westminster City Council\, Violence Reduction Unit a
 nd Young Westminster Foundation.\n\nFor more information and how to apply\
 , please follow this link.\n\nWe are offering two Guidance Sessions online
 \, to ask questions\, find out more about the criteria and support availab
 le via the programme team.\n\nThe Application Support Sessions are led by 
 the programme team and will focus on supporting application writing and pr
 oject development.\n\nBookable by email only.
ATTACH;FMTTYPE=image/jpeg:https://i0.wp.com/westbourneforum.org.uk/wp-cont
 ent/uploads/2024/12/HH-Banner-banner.webp?fit=800%2C445&ssl=1
LOCATION:Greenside Community Centre\,  24 Lilestone Street\, London\, Engla
 nd\, NW8 8SR\, Westminster\, United Kingdom
GEO:51.525228;-0.166276
X-APPLE-STRUCTURED-LOCATION;VALUE=URI;X-ADDRESS= 24 Lilestone Street\, Lond
 on\, England\, NW8 8SR\, Westminster\, United Kingdom;X-APPLE-RADIUS=100;X
 -TITLE=Greenside Community Centre:geo:51.525228,-0.166276
ORGANIZER;CN="Westbourne Forum":MAILTO:westbourne-admin@westbourneforum.org.uk
END:VEVENT
BEGIN:VTIMEZONE
TZID:Europe/London
X-LIC-LOCATION:Europe/London
BEGIN:STANDARD
DTSTART:20241027T010000
TZOFFSETFROM:+0100
TZOFFSETTO:+0000
TZNAME:GMT
END:STANDARD
END:VTIMEZONE
END:VCALENDAR