BEGIN:VCALENDAR
VERSION:2.0
PRODID:-//wp-events-plugin.com//7.2.3.1//EN
TZID:Europe/London
X-WR-TIMEZONE:Europe/London
BEGIN:VEVENT
UID:1-1660@westbourneforum.org.uk
DTSTART;TZID=Europe/London:20210924T093000
DTEND;TZID=Europe/London:20210924T113000
DTSTAMP:20210916T194413Z
URL:https://westbourneforum.org.uk/events/health-suite-women-only-2-2021-0
 9-24/
SUMMARY:Health Suite - Women Only
DESCRIPTION:
ATTACH;FMTTYPE=image/jpeg:https://i0.wp.com/westbourneforum.org.uk/wp-cont
 ent/uploads/2021/09/women_only_6-1.png?fit=1600%2C890&ssl=1
LOCATION:Jubilee Community Leisure Centre\, 22 Lancefield Street\, Queen's 
 Park\, England\, W10 4NW\, Westminster\, United Kingdom
GEO:51.528655;-0.20576
X-APPLE-STRUCTURED-LOCATION;VALUE=URI;X-ADDRESS=22 Lancefield Street\, Quee
 n's Park\, England\, W10 4NW\, Westminster\, United Kingdom;X-APPLE-RADIUS
 =100;X-TITLE=Jubilee Community Leisure Centre:geo:51.528655,-0.20576
ORGANIZER;CN="Westbourne Forum":MAILTO:westbourne-admin@westbourneforum.org.uk
END:VEVENT
BEGIN:VTIMEZONE
TZID:Europe/London
X-LIC-LOCATION:Europe/London
BEGIN:DAYLIGHT
DTSTART:20210328T020000
TZOFFSETFROM:+0000
TZOFFSETTO:+0100
TZNAME:BST
END:DAYLIGHT
END:VTIMEZONE
END:VCALENDAR