BEGIN:VCALENDAR
VERSION:2.0
PRODID:-//wp-events-plugin.com//7.2.3.1//EN
TZID:Europe/London
X-WR-TIMEZONE:Europe/London
BEGIN:VEVENT
UID:1-14763@westbourneforum.org.uk
DTSTART;TZID=Europe/London:20241026T090000
DTEND;TZID=Europe/London:20241026T180000
DTSTAMP:20241025T222620Z
URL:https://westbourneforum.org.uk/events/halloween-and-dia-de-los-muertos
 /
SUMMARY:Halloween and Dia de los Muertos
DESCRIPTION:\n\nJoin us for a spooktacular Halloween-themed fun day!\n\nExp
 ect exciting activities\, delicious food\, and Halloween surprises for the
  whole family.\n\nWeb\n\n\n\n&nbsp\;
ATTACH;FMTTYPE=image/jpeg:https://i0.wp.com/westbourneforum.org.uk/wp-cont
 ent/uploads/2024/10/Halloween-at-Maida-Hill-Market.webp?fit=800%2C445&ssl=
 1
LOCATION:Maida Hill Market\, Fernhead Road\, London\, England\, W9 3ET\, We
 stminster\, United Kingdom
GEO:51.524409;-0.201458
X-APPLE-STRUCTURED-LOCATION;VALUE=URI;X-ADDRESS=Fernhead Road\, London\, En
 gland\, W9 3ET\, Westminster\, United Kingdom;X-APPLE-RADIUS=100;X-TITLE=M
 aida Hill Market:geo:51.524409,-0.201458
ORGANIZER;CN="Westbourne Forum":MAILTO:westbourne-admin@westbourneforum.org.uk
END:VEVENT
BEGIN:VTIMEZONE
TZID:Europe/London
X-LIC-LOCATION:Europe/London
BEGIN:DAYLIGHT
DTSTART:20240331T020000
TZOFFSETFROM:+0000
TZOFFSETTO:+0100
TZNAME:BST
END:DAYLIGHT
END:VTIMEZONE
END:VCALENDAR