BEGIN:VCALENDAR
VERSION:2.0
PRODID:-//wp-events-plugin.com//7.2.3.1//EN
TZID:Europe/London
X-WR-TIMEZONE:Europe/London
BEGIN:VEVENT
UID:1-10106@westbourneforum.org.uk
DTSTART;TZID=Europe/London:20240213T130000
DTEND;TZID=Europe/London:20240213T170000
DTSTAMP:20240212T204718Z
URL:https://westbourneforum.org.uk/events/half-term-programme-2024-02-13/
SUMMARY:Half-Term Programme
DESCRIPTION:London Tigers will deliver a wide range of multi sports activit
 ies including football crocket\, basketball\, dodgeball and fun fitness sm
 all- sided games for children ages of 8 years to 15 years during the Febru
 ary Half-Term from Lisson Green Estate sport pitches.\n\nDetails of free m
 eal provided: Healthy meal with sandwiches\, hot meal\, fruit and drink\n
 \nNearest bus stop: Lisson Grove Road and Lisson Grove\nNearest tube stop
 : Marylebone station\n\nContact email: zahid@londontigers.org\nContact p
 hone number: 07907 572 427\n\nLimited Spaces!!\n\nBooking and further info
 \n\n&nbsp\;\n\n\n\ninstagram.com/londontigersofficial\nfacebook.com/london
 tigers\ntwitter.com/London_Tigers
ATTACH;FMTTYPE=image/jpeg:https://i0.wp.com/westbourneforum.org.uk/wp-cont
 ent/uploads/2024/02/Half-Term-Programme-Lisson-Green-Estate-Sports-Pitch-b
 anner.webp?fit=800%2C445&ssl=1
LOCATION:Lisson Green Sports Pitch\, 17 Swain Street\, London\, England\, N
 W8 8RZ\, Westminster\, United Kingdom
GEO:51.526715;-0.168271
X-APPLE-STRUCTURED-LOCATION;VALUE=URI;X-ADDRESS=17 Swain Street\, London\, 
 England\, NW8 8RZ\, Westminster\, United Kingdom;X-APPLE-RADIUS=100;X-TITL
 E=Lisson Green Sports Pitch:geo:51.526715,-0.168271
ORGANIZER;CN="Westbourne Forum":MAILTO:westbourne-admin@westbourneforum.org.uk
END:VEVENT
BEGIN:VTIMEZONE
TZID:Europe/London
X-LIC-LOCATION:Europe/London
BEGIN:STANDARD
DTSTART:20231029T010000
TZOFFSETFROM:+0100
TZOFFSETTO:+0000
TZNAME:GMT
END:STANDARD
END:VTIMEZONE
END:VCALENDAR