BEGIN:VCALENDAR
VERSION:2.0
PRODID:-//wp-events-plugin.com//7.2.3.1//EN
TZID:Europe/London
X-WR-TIMEZONE:Europe/London
BEGIN:VEVENT
UID:1-10318@westbourneforum.org.uk
DTSTART;TZID=Europe/London:20240425T100000
DTEND;TZID=Europe/London:20240425T120000
DTSTAMP:20240224T063135Z
URL:https://westbourneforum.org.uk/events/h-e-l-p-cafe-3/
SUMMARY:H E L P Café
DESCRIPTION:\n\nThis is an Employability event focusing on employment\, dev
 elopment\, jobs and training.\n\nPlease note the session is only for Westm
 inster residents.\n\nThursday 29th February 2024\n\nMy skill zone – Clie
 nts to sign up and do trial run on accessing the programme the session wil
 l be interactive\nJob Club - What is this? and how is it ran? Discussion o
 f job or opportunities\, client can bring an opportunity along and can ask
  questions that they may have on the opportunity\nHyatt Regency Hotel - Di
 scussion on opportunities\nWe will have WCCHOS officers that will be prese
 nt on the day to offer information advice and guidance\n\nThursday 21st Ma
 rch 2024\n\nC.V Building session\nInterview preparation\nSelf-employment -
  Rebel Business School\nWe will also have two guest speaker on the day\nWe
  will have WCCHOS officers that will be present on the day to offer inform
 ation advice and guidance\n\nThursday 25th April\n\nFocusing on training a
 nd development\nWAES Apprenticeship\nCapital College Courses/Training\, in
 terview opportunity possibly leading into employment\nGetset - Live Opport
 unities TBC\nOne Westminster - Volunteering opportunities\nSmart Works TBC
 \nWe will have WCCHOS officers that will be present on the day to offer in
 formation advice and guidance\n\nhttps://www.eventbrite.co.uk/e/help-cafe-
 tickets-823843767887
ATTACH;FMTTYPE=image/jpeg:https://i0.wp.com/westbourneforum.org.uk/wp-cont
 ent/uploads/2024/02/H.E.L.P-Cafe-banner.webp?fit=800%2C445&ssl=1
LOCATION:The Rebel School\, 470 Harrow Road\, London\, England\, W9 3RU\, W
 estminster\, United Kingdom
GEO:51.524062;-0.200607
X-APPLE-STRUCTURED-LOCATION;VALUE=URI;X-ADDRESS=470 Harrow Road\, London\, 
 England\, W9 3RU\, Westminster\, United Kingdom;X-APPLE-RADIUS=100;X-TITLE
 =The Rebel School:geo:51.524062,-0.200607
ORGANIZER;CN="Westbourne Forum":MAILTO:westbourne-admin@westbourneforum.org.uk
END:VEVENT
BEGIN:VTIMEZONE
TZID:Europe/London
X-LIC-LOCATION:Europe/London
BEGIN:DAYLIGHT
DTSTART:20240331T020000
TZOFFSETFROM:+0000
TZOFFSETTO:+0100
TZNAME:BST
END:DAYLIGHT
END:VTIMEZONE
END:VCALENDAR