BEGIN:VCALENDAR
VERSION:2.0
PRODID:-//wp-events-plugin.com//7.2.3.1//EN
TZID:Europe/London
X-WR-TIMEZONE:Europe/London
BEGIN:VEVENT
UID:1-62@westbourneforum.org.uk
DTSTART;TZID=Europe/London:20191006T170000
DTEND;TZID=Europe/London:20191006T180000
DTSTAMP:20220721T181206Z
URL:https://westbourneforum.org.uk/events/grow-meanwhile-gardens/
SUMMARY:Grow Meanwhile Gardens
DESCRIPTION:Grow planning meeting\nPlanning for the Autumn Factory Building
  open-day and community engagement event. All Welcome!\nContact Tony 07549
  940 564\n\n\n\n\n\n&nbsp\;\n\n&nbsp\;\n\nis a community initiative aimed 
 at securing a long-term lease for the gardens and the factory building.\n\
 nThe Factory site - a key part of the running of the Meanwhile Gardens - d
 oesn't have a lease. This puts it in danger of being lost.\n\nIn the Autum
 n of 2019\, Grow Meanwhile aim to present a vision for the factory site to
  the council in the hope that they will grant the land. They can then begi
 n to fundraise and make the vision a reality! For further Info see https:/
 /grow.meanwhile-gardens.org.uk/#grow-meanwhile.\n\n\nGrow Meanwhile are ha
 ving a series of public meetings and other consultations - including on th
 eir website - leading to a final public meeting for this phase on the 6th 
 November 2019.
ATTACH;FMTTYPE=image/jpeg:https://i0.wp.com/westbourneforum.org.uk/wp-cont
 ent/uploads/2019/09/grow-meanwhile-gardens-collage.jpeg?fit=1360%2C1016&ss
 l=1
LOCATION:Meanwhile Gardens Playhut\, Meanwhile Gardens Playhut\, Kensington
  and Chelsea\, London\, W10 5NT\, United Kingdom
GEO:51.522509540444354;-0.20302176475524905
X-APPLE-STRUCTURED-LOCATION;VALUE=URI;X-ADDRESS=Meanwhile Gardens Playhut\,
  Kensington and Chelsea\, London\, W10 5NT\, United Kingdom;X-APPLE-RADIUS
 =100;X-TITLE=Meanwhile Gardens Playhut:geo:51.522509540444354,-0.203021764
 75524905
ORGANIZER;CN="Westbourne Forum":MAILTO:westbourne-admin@westbourneforum.org.uk
END:VEVENT
BEGIN:VTIMEZONE
TZID:Europe/London
X-LIC-LOCATION:Europe/London
BEGIN:DAYLIGHT
DTSTART:20190331T020000
TZOFFSETFROM:+0000
TZOFFSETTO:+0100
TZNAME:BST
END:DAYLIGHT
END:VTIMEZONE
END:VCALENDAR