BEGIN:VCALENDAR
VERSION:2.0
PRODID:-//wp-events-plugin.com//7.2.3.1//EN
TZID:Europe/London
X-WR-TIMEZONE:Europe/London
BEGIN:VEVENT
UID:1-9732@westbourneforum.org.uk
DTSTART;TZID=Europe/London:20240604T160000
DTEND;TZID=Europe/London:20240604T173000
DTSTAMP:20240205T015130Z
URL:https://westbourneforum.org.uk/events/green-kids-club-3-2024-06-04/
SUMMARY:Green Kids Club
DESCRIPTION:Green Kids Club is our newest after-school club for children ag
 ed 7 - 11 ( school years 3 - 6 ).\n\nThis club aims to inspire and educate
  young people to think about recycling\, environmentalism\, planting\, and
  improving their local area.\n\nHave fun\, meet new friends\, and become a
  young activist sticking up for our planet!\n\nFREE\, Booking required\n\n
 Further details and booking\n\n
ATTACH;FMTTYPE=image/jpeg:https://i0.wp.com/westbourneforum.org.uk/wp-cont
 ent/uploads/2023/09/Green-Kids-Club-banner.webp?fit=1386%2C771&ssl=1
LOCATION:Grand Junction\, St Mary Magdalene Church\, Rowington Close\, West
 minster\, London\, W2 5TF\, England\, United Kingdom
GEO:51.5224;-0.188497
X-APPLE-STRUCTURED-LOCATION;VALUE=URI;X-ADDRESS=St Mary Magdalene Church\, 
 Rowington Close\, Westminster\, London\, W2 5TF\, England\, United Kingdom
 ;X-APPLE-RADIUS=100;X-TITLE=Grand Junction:geo:51.5224,-0.188497
ORGANIZER;CN="Westbourne Forum":MAILTO:westbourne-admin@westbourneforum.org.uk
END:VEVENT
BEGIN:VTIMEZONE
TZID:Europe/London
X-LIC-LOCATION:Europe/London
BEGIN:DAYLIGHT
DTSTART:20240331T020000
TZOFFSETFROM:+0000
TZOFFSETTO:+0100
TZNAME:BST
END:DAYLIGHT
END:VTIMEZONE
END:VCALENDAR