BEGIN:VCALENDAR
VERSION:2.0
PRODID:-//wp-events-plugin.com//7.2.3.1//EN
TZID:Europe/London
X-WR-TIMEZONE:Europe/London
BEGIN:VEVENT
UID:1-55@westbourneforum.org.uk
DTSTART;TZID=Europe/London:20190720T100000
DTEND;TZID=Europe/London:20190720T120000
DTSTAMP:20190717T223816Z
URL:https://westbourneforum.org.uk/events/grand-junction-art-party/
SUMMARY:Grand Junction Art Party
DESCRIPTION:The second Art Party event of the Summer!\n\nBring the kids and
  join in some free activities!\n\n\nwww.grandjunction.org.uk\nhttps://happ
 ylizzy.com/events
LOCATION:St Mary Magdalene Church\, Rowington Close\, Westminster\, London\
 , W2 5TF\, United Kingdom
GEO:51.522465;-0.189278
X-APPLE-STRUCTURED-LOCATION;VALUE=URI;X-ADDRESS=Rowington Close\, Westminst
 er\, London\, W2 5TF\, United Kingdom;X-APPLE-RADIUS=100;X-TITLE=St Mary M
 agdalene Church:geo:51.522465,-0.189278
ORGANIZER;CN="Westbourne Forum":MAILTO:westbourne-admin@westbourneforum.org.uk
END:VEVENT
BEGIN:VTIMEZONE
TZID:Europe/London
X-LIC-LOCATION:Europe/London
BEGIN:DAYLIGHT
DTSTART:20190331T020000
TZOFFSETFROM:+0000
TZOFFSETTO:+0100
TZNAME:BST
END:DAYLIGHT
END:VTIMEZONE
END:VCALENDAR