BEGIN:VCALENDAR
VERSION:2.0
PRODID:-//wp-events-plugin.com//7.2.3.1//EN
TZID:Europe/London
X-WR-TIMEZONE:Europe/London
BEGIN:VEVENT
UID:1-10120@westbourneforum.org.uk
DTSTART;TZID=Europe/London:20240309T140000
DTEND;TZID=Europe/London:20240309T170000
DTSTAMP:20240205T203735Z
URL:https://westbourneforum.org.uk/events/go-green-festival/
SUMMARY:Go Green Festival
DESCRIPTION:\n\nCome to our Go Green Festival on Sat 9 March 2024 from 2-5p
 m - free and for the whole community.\n\nStorytelling\, free healthy food\
 , teas and coffees\, sustainsbale art workshops\, face painting\, info sta
 lls\, planting\, upcycling clothes and much more.\n\n
ATTACH;FMTTYPE=image/jpeg:https://i0.wp.com/westbourneforum.org.uk/wp-cont
 ent/uploads/2024/02/Go-Green-Festival-at-Grand-Junction-banner.webp?fit=93
 5%2C520&ssl=1
LOCATION:Grand Junction\, St Mary Magdalene Church\, Rowington Close\, West
 minster\, London\, W2 5TF\, England\, United Kingdom
GEO:51.5224;-0.188497
X-APPLE-STRUCTURED-LOCATION;VALUE=URI;X-ADDRESS=St Mary Magdalene Church\, 
 Rowington Close\, Westminster\, London\, W2 5TF\, England\, United Kingdom
 ;X-APPLE-RADIUS=100;X-TITLE=Grand Junction:geo:51.5224,-0.188497
ORGANIZER;CN="Westbourne Forum":MAILTO:westbourne-admin@westbourneforum.org.uk
END:VEVENT
BEGIN:VTIMEZONE
TZID:Europe/London
X-LIC-LOCATION:Europe/London
BEGIN:STANDARD
DTSTART:20231029T010000
TZOFFSETFROM:+0100
TZOFFSETTO:+0000
TZNAME:GMT
END:STANDARD
END:VTIMEZONE
END:VCALENDAR