BEGIN:VCALENDAR
VERSION:2.0
PRODID:-//wp-events-plugin.com//7.2.3.1//EN
TZID:Europe/London
X-WR-TIMEZONE:Europe/London
BEGIN:VEVENT
UID:1-5627@westbourneforum.org.uk
DTSTART;TZID=Europe/London:20230304T183000
DTEND;TZID=Europe/London:20230304T203000
DTSTAMP:20230228T212904Z
URL:https://westbourneforum.org.uk/events/girls-hub-2023-03-04/
SUMMARY:Girls' Hub
DESCRIPTION:
ATTACH;FMTTYPE=image/jpeg:https://i0.wp.com/westbourneforum.org.uk/wp-cont
 ent/uploads/2023/02/The-Avenues-Seniors-Girls-Hub-header.webp?fit=1237%2C6
 88&ssl=1
LOCATION:The Avenues Youth Project\, 3 - 7 Third Avenue\, Queen's Park\, En
 gland\, W10 4RS\, Westminster\, United Kingdom
GEO:51.527092;-0.207978
X-APPLE-STRUCTURED-LOCATION;VALUE=URI;X-ADDRESS=3 - 7 Third Avenue\, Queen'
 s Park\, England\, W10 4RS\, Westminster\, United Kingdom;X-APPLE-RADIUS=1
 00;X-TITLE=The Avenues Youth Project:geo:51.527092,-0.207978
ORGANIZER;CN="Westbourne Forum":MAILTO:westbourne-admin@westbourneforum.org.uk
END:VEVENT
BEGIN:VTIMEZONE
TZID:Europe/London
X-LIC-LOCATION:Europe/London
BEGIN:STANDARD
DTSTART:20221030T010000
TZOFFSETFROM:+0100
TZOFFSETTO:+0000
TZNAME:GMT
END:STANDARD
END:VTIMEZONE
END:VCALENDAR