BEGIN:VCALENDAR
VERSION:2.0
PRODID:-//wp-events-plugin.com//7.2.3.1//EN
TZID:Europe/London
X-WR-TIMEZONE:Europe/London
BEGIN:VEVENT
UID:1-7063@westbourneforum.org.uk
DTSTART;TZID=Europe/London:20230802T130000
DTEND;TZID=Europe/London:20230802T150000
DTSTAMP:20230729T201657Z
URL:https://westbourneforum.org.uk/events/girls-allowed-2023-08-02/
SUMMARY:Girls Allowed
DESCRIPTION:\nSIGN UP: www.eventbrite.co.uk/e/girls-allowed-tickets-6721406
 89897\nwww.espfoundation.co.uk\nespfoundation1@gmail.com\n\n
ATTACH;FMTTYPE=image/jpeg:https://i0.wp.com/westbourneforum.org.uk/wp-cont
 ent/uploads/2023/07/girls-allowed-church-street-header.webp?fit=844%2C470&
 ssl=1
LOCATION:Church Street Community Leisure Centre\, 1 Fisherton Street\, Lond
 on\, England\, NW8 8BF\, Westminster\, United Kingdom
GEO:51.524226;-0.171077
X-APPLE-STRUCTURED-LOCATION;VALUE=URI;X-ADDRESS=1 Fisherton Street\, London
 \, England\, NW8 8BF\, Westminster\, United Kingdom;X-APPLE-RADIUS=100;X-T
 ITLE=Church Street Community Leisure Centre:geo:51.524226,-0.171077
ORGANIZER;CN="Westbourne Forum":MAILTO:westbourne-admin@westbourneforum.org.uk
END:VEVENT
BEGIN:VTIMEZONE
TZID:Europe/London
X-LIC-LOCATION:Europe/London
BEGIN:DAYLIGHT
DTSTART:20230326T020000
TZOFFSETFROM:+0000
TZOFFSETTO:+0100
TZNAME:BST
END:DAYLIGHT
END:VTIMEZONE
END:VCALENDAR