BEGIN:VCALENDAR
VERSION:2.0
PRODID:-//wp-events-plugin.com//7.2.3.1//EN
TZID:Europe/London
X-WR-TIMEZONE:Europe/London
BEGIN:VEVENT
UID:1-5467@westbourneforum.org.uk
DTSTART;TZID=Europe/London:20230213T110000
DTEND;TZID=Europe/London:20230213T140000
DTSTAMP:20230202T002146Z
URL:https://westbourneforum.org.uk/events/get-creative-february-half-term/
SUMMARY:Get #creative - February half term
DESCRIPTION:*PLEASE NOTE: This project is part of the October Half Term act
 ivities\, funded by Westminster City Council\n\nHalf Term Activities with 
 Abundance Arts\,Fun\, games\, arts and crafts\, food and friends\, for loc
 al children and young people\n\nNearest bus stop: Ladbroke Grove\nNearest
  tube stop: Ladbroke Grove\n\nContact phone: 0794 1625 359\n\nFully Book
 ed.\n\narts@abundancearts.com\n\nourcity.org.uk/projects/details/october-h
 alf-term-get-creative\n\nhttp://www.abundancearts.com/\n\nNo application r
 equired\, simply go on the next available date.
ATTACH;FMTTYPE=image/jpeg:https://i0.wp.com/westbourneforum.org.uk/wp-cont
 ent/uploads/2023/02/Get-creative-February-half-term.webp?fit=800%2C445&ssl
 =1
LOCATION:Canalside House\, 383 Ladbroke Grove\, London\, England\, W10 5BU\
 , United Kingdom
GEO:51.526296;-0.215424
X-APPLE-STRUCTURED-LOCATION;VALUE=URI;X-ADDRESS=383 Ladbroke Grove\, London
 \, England\, W10 5BU\, United Kingdom;X-APPLE-RADIUS=100;X-TITLE=Canalside
  House:geo:51.526296,-0.215424
ORGANIZER;CN="Westbourne Forum":MAILTO:westbourne-admin@westbourneforum.org.uk
END:VEVENT
BEGIN:VTIMEZONE
TZID:Europe/London
X-LIC-LOCATION:Europe/London
BEGIN:STANDARD
DTSTART:20221030T010000
TZOFFSETFROM:+0100
TZOFFSETTO:+0000
TZNAME:GMT
END:STANDARD
END:VTIMEZONE
END:VCALENDAR