BEGIN:VCALENDAR
VERSION:2.0
PRODID:-//wp-events-plugin.com//7.2.3.1//EN
TZID:Europe/London
X-WR-TIMEZONE:Europe/London
BEGIN:VEVENT
UID:1-12214@westbourneforum.org.uk
DTSTART;TZID=Europe/London:20240824T103000
DTEND;TZID=Europe/London:20240824T170000
DTSTAMP:20240705T164212Z
URL:https://westbourneforum.org.uk/events/games-design-fx-and-coding-works
 hop-2024-08-24/
SUMMARY:Games Design\, FX and Coding Workshop
DESCRIPTION:\n\nrubyscreencommunity@gmail.com\n075 3561 8186\n\n kate.herro
 n@thescreencommunity.com\n077 0331 2296\n\n&nbsp\;\n\n&nbsp\;\n\n
ATTACH;FMTTYPE=image/jpeg:https://i0.wp.com/westbourneforum.org.uk/wp-cont
 ent/uploads/2024/07/Games-Design-FX-and-Coding-Workshop-banner.webp?fit=80
 0%2C445&ssl=1
LOCATION:The Rebel School\, 470 Harrow Road\, London\, England\, W9 3RU\, W
 estminster\, United Kingdom
GEO:51.524062;-0.200607
X-APPLE-STRUCTURED-LOCATION;VALUE=URI;X-ADDRESS=470 Harrow Road\, London\, 
 England\, W9 3RU\, Westminster\, United Kingdom;X-APPLE-RADIUS=100;X-TITLE
 =The Rebel School:geo:51.524062,-0.200607
ORGANIZER;CN="Westbourne Forum":MAILTO:westbourne-admin@westbourneforum.org.uk
END:VEVENT
BEGIN:VTIMEZONE
TZID:Europe/London
X-LIC-LOCATION:Europe/London
BEGIN:DAYLIGHT
DTSTART:20240331T020000
TZOFFSETFROM:+0000
TZOFFSETTO:+0100
TZNAME:BST
END:DAYLIGHT
END:VTIMEZONE
END:VCALENDAR