BEGIN:VCALENDAR
VERSION:2.0
PRODID:-//wp-events-plugin.com//7.2.3.1//EN
TZID:Europe/London
X-WR-TIMEZONE:Europe/London
BEGIN:VEVENT
UID:1-11224@westbourneforum.org.uk
DTSTART;TZID=Europe/London:20240528T103000
DTEND;TZID=Europe/London:20240528T114500
DTSTAMP:20240417T214542Z
URL:https://westbourneforum.org.uk/events/free-yoga-classes-for-women-only
 -2024-05-28/
SUMMARY:Free Yoga Classes For Women Only
DESCRIPTION:&#x2728\;&#x1f9d8\;&#x200d\;&#x2640\;&#x2728\; FREE YOGA CLASSE
 S for ADULTS IN-PERSON &amp\; ONLINE &#x2728\;&#x1f9d8\;&#x2728\;\n\nYoga 
 is for everyone\, regardless of age. You don’t need to be flexible and f
 it to start practicing yoga and to enjoy its benefits – you become fit a
 nd flexible by practicing yoga. You will be guided to practice at your own
  level of fitness and ability.\n\nBy practicing yoga you will gradually im
 prove your overall health and quality of life\, including flexibility\, co
 -ordination\, agility\, strength\, reducing stress and bringing calm.\n\nF
 REE YOGA CLASSES FOR ADULTS (in-person &amp\; online) at the Cockpit Theat
 re\, Gateforth St\, Marylebone\, NW8 8EH\n\nFree Yoga for Men &amp\; Women
  on Mondays 7.30 pm - 8.45 pm\n\nFree Yoga for Women Only on Tuesdays 10.3
 0 - 11.45 am\n\nFor more info &amp\; registration form visit malachergathe
 atre.weebly.com/adults-classes
ATTACH;FMTTYPE=image/jpeg:https://i0.wp.com/westbourneforum.org.uk/wp-cont
 ent/uploads/2024/04/Adult-Yoga-banner.webp?fit=1710%2C951&ssl=1
LOCATION:Cockpit Theatre\, Gateforth Street\, London\, England\, NW8 8EH\, 
 Westminster\, United Kingdom
GEO:51.524532;-0.169532
X-APPLE-STRUCTURED-LOCATION;VALUE=URI;X-ADDRESS=Gateforth Street\, London\,
  England\, NW8 8EH\, Westminster\, United Kingdom;X-APPLE-RADIUS=100;X-TIT
 LE=Cockpit Theatre:geo:51.524532,-0.169532
ORGANIZER;CN="Westbourne Forum":MAILTO:westbourne-admin@westbourneforum.org.uk
END:VEVENT
BEGIN:VTIMEZONE
TZID:Europe/London
X-LIC-LOCATION:Europe/London
BEGIN:DAYLIGHT
DTSTART:20240331T020000
TZOFFSETFROM:+0000
TZOFFSETTO:+0100
TZNAME:BST
END:DAYLIGHT
END:VTIMEZONE
END:VCALENDAR