BEGIN:VCALENDAR
VERSION:2.0
PRODID:-//wp-events-plugin.com//7.2.3.1//EN
TZID:Europe/London
X-WR-TIMEZONE:Europe/London
BEGIN:VEVENT
UID:1-10507@westbourneforum.org.uk
DTSTART;TZID=Europe/London:20240408T180000
DTEND;TZID=Europe/London:20240408T190000
DTSTAMP:20240220T001009Z
URL:https://westbourneforum.org.uk/events/free-ukelele-group-course-2024-0
 4-08/
SUMMARY:Free Ukelele Group Course
DESCRIPTION:\n\n\nWestminster Music Library and London Ukulele Project a
 re delighted to offer a free 6-week ukulele course for young adults ( aged
  18 - 25 ).\n\nThis beginner-friendly course is a great way try out the uk
 ulele while meeting new people in your community. Registration for this co
 urse includes the free loan one of our ukuleles for the duration of the co
 urse\, so you do not have to own an instrument to join in!\nSchedule\nThis
  course will run on the following Monday evenings from 6pm - 7pm.\n\nMond
 ay 4 March\n\nMonday 11 March\n\nMonday 18 March\n\nMonday 25 March\n\nNo 
 class on Easter Monday\n\nMonday 8 April\n\nMonday 15 April\n\nPlease only
  sign up if you intend to attend all 6 sessions. All participants will rec
 eive an email a few days prior to the first session asking them to confirm
  their attendance. Please ensure you respond to this message\, otherwise y
 our booking may be cancelled to make space for someone on the waitlist.\n\
 n\n\n\n\n\n\n
ATTACH;FMTTYPE=image/jpeg:https://i0.wp.com/westbourneforum.org.uk/wp-cont
 ent/uploads/2024/02/Free-Ukelele-Group-Course.webp?fit=800%2C445&ssl=1
LOCATION:Westminster Music Library\, 35 Saint Martin's Street\, London\, En
 gland\, WC2H 7HP\, Westminster\, United Kingdom
GEO:51.509661;-0.129808
X-APPLE-STRUCTURED-LOCATION;VALUE=URI;X-ADDRESS=35 Saint Martin's Street\, 
 London\, England\, WC2H 7HP\, Westminster\, United Kingdom;X-APPLE-RADIUS=
 100;X-TITLE=Westminster Music Library:geo:51.509661,-0.129808
ORGANIZER;CN="Westbourne Forum":MAILTO:westbourne-admin@westbourneforum.org.uk
END:VEVENT
BEGIN:VTIMEZONE
TZID:Europe/London
X-LIC-LOCATION:Europe/London
BEGIN:DAYLIGHT
DTSTART:20240331T020000
TZOFFSETFROM:+0000
TZOFFSETTO:+0100
TZNAME:BST
END:DAYLIGHT
END:VTIMEZONE
END:VCALENDAR