BEGIN:VCALENDAR
VERSION:2.0
PRODID:-//wp-events-plugin.com//7.2.3.1//EN
TZID:Europe/London
X-WR-TIMEZONE:Europe/London
BEGIN:VEVENT
UID:1-5676@westbourneforum.org.uk
DTSTART;TZID=Europe/London:20230421T143000
DTEND;TZID=Europe/London:20230421T164500
DTSTAMP:20230328T215840Z
URL:https://westbourneforum.org.uk/events/free-tech-coding-and-digital-it-
 course-level-1-2-2023-04-21/
SUMMARY:Free tech\, Coding and Digital IT course level 1
DESCRIPTION:
ATTACH;FMTTYPE=image/jpeg:https://i0.wp.com/westbourneforum.org.uk/wp-cont
 ent/uploads/2023/03/Free-tech-Coding-and-Digital-IT-course-level-1-header.
 webp?fit=1414%2C786&ssl=1
LOCATION:SEIDs Hub\, Empire Way\, Wembley\, London\, HA9 0RJ\, Brent\, Unit
 ed Kingdom
GEO:51.557396;-0.286483
X-APPLE-STRUCTURED-LOCATION;VALUE=URI;X-ADDRESS=Empire Way\, Wembley\, Lond
 on\, HA9 0RJ\, Brent\, United Kingdom;X-APPLE-RADIUS=100;X-TITLE=SEIDs Hub
 :geo:51.557396,-0.286483
ORGANIZER;CN="Westbourne Forum":MAILTO:westbourne-admin@westbourneforum.org.uk
END:VEVENT
BEGIN:VTIMEZONE
TZID:Europe/London
X-LIC-LOCATION:Europe/London
BEGIN:DAYLIGHT
DTSTART:20230326T020000
TZOFFSETFROM:+0000
TZOFFSETTO:+0100
TZNAME:BST
END:DAYLIGHT
END:VTIMEZONE
END:VCALENDAR