BEGIN:VCALENDAR
VERSION:2.0
PRODID:-//wp-events-plugin.com//7.2.3.1//EN
TZID:Europe/London
X-WR-TIMEZONE:Europe/London
BEGIN:VEVENT
UID:1-10243@westbourneforum.org.uk
DTSTART;TZID=Europe/London:20240219T130000
DTEND;TZID=Europe/London:20240219T140000
DTSTAMP:20240616T003247Z
URL:https://westbourneforum.org.uk/events/free-skateboard-lessons-2024-02-
 19/
SUMMARY:Free Skateboard Lessons
DESCRIPTION:\n\nPlease note this event is for age 16+\n\nInstagram | X / T
 witter | Facebook\n\nhurdles2hoops.com\n\n07591 215 808\n\n&nbsp\;\n\n&nbs
 p\;\n\n
ATTACH;FMTTYPE=image/jpeg:https://i0.wp.com/westbourneforum.org.uk/wp-cont
 ent/uploads/2024/02/Free-Skateboard-Lessons-banner.webp?fit=1080%2C601&ssl
 =1
LOCATION:Royal Oak Skatepark\, Torquay Street\, London\, England\, W2 5EJ\,
  Westminster\, United Kingdom
GEO:51.520252;-0.191571
X-APPLE-STRUCTURED-LOCATION;VALUE=URI;X-ADDRESS=Torquay Street\, London\, E
 ngland\, W2 5EJ\, Westminster\, United Kingdom;X-APPLE-RADIUS=100;X-TITLE=
 Royal Oak Skatepark:geo:51.520252,-0.191571
ORGANIZER;CN="Westbourne Forum":MAILTO:westbourne-admin@westbourneforum.org.uk
END:VEVENT
BEGIN:VTIMEZONE
TZID:Europe/London
X-LIC-LOCATION:Europe/London
BEGIN:STANDARD
DTSTART:20231029T010000
TZOFFSETFROM:+0100
TZOFFSETTO:+0000
TZNAME:GMT
END:STANDARD
END:VTIMEZONE
END:VCALENDAR