BEGIN:VCALENDAR
VERSION:2.0
PRODID:-//wp-events-plugin.com//7.2.3.1//EN
TZID:Europe/London
X-WR-TIMEZONE:Europe/London
BEGIN:VEVENT
UID:1-14907@westbourneforum.org.uk
DTSTART;TZID=Europe/London:20241208T171500
DTEND;TZID=Europe/London:20241208T190000
DTSTAMP:20241121T063928Z
URL:https://westbourneforum.org.uk/events/free-percussion-workshops-with-g
 errys-pompeii-2024-12-08/
SUMMARY:Free Percussion Workshops with Gerry's Pompeii
DESCRIPTION:\n\nIf anyone has fancied making stunning rhythms with househol
 d objects and street furniture\, the first free workshop by Carl\, co-crea
 tor of the STOMP musical\, will be leading them.\n\nYou’ll help him come
  up with a routine and practice this Sunday 24th 11 - 1 and Sunday 1st 11 
 - 1 (Paddington arts Dance studio) and then perform at 6 pm along Hormead 
 Road as part of our Verry Gerry Christmas !\n\nSign up for a lot of fun!!\
 n\n
ATTACH;FMTTYPE=image/jpeg:https://i0.wp.com/westbourneforum.org.uk/wp-cont
 ent/uploads/2024/11/Free-Hormead-Stomper-banner.webp?fit=938%2C522&ssl=1
LOCATION:Gerry's Pompeii\, 48 Hormead Road\, London\, England\, W9 3NG\, Un
 ited Kingdom
GEO:51.523816;-0.203808
X-APPLE-STRUCTURED-LOCATION;VALUE=URI;X-ADDRESS=48 Hormead Road\, London\, 
 England\, W9 3NG\, United Kingdom;X-APPLE-RADIUS=100;X-TITLE=Gerry's Pompe
 ii:geo:51.523816,-0.203808
ORGANIZER;CN="Westbourne Forum":MAILTO:westbourne-admin@westbourneforum.org.uk
END:VEVENT
BEGIN:VTIMEZONE
TZID:Europe/London
X-LIC-LOCATION:Europe/London
BEGIN:STANDARD
DTSTART:20241027T010000
TZOFFSETFROM:+0100
TZOFFSETTO:+0000
TZNAME:GMT
END:STANDARD
END:VTIMEZONE
END:VCALENDAR