BEGIN:VCALENDAR
VERSION:2.0
PRODID:-//wp-events-plugin.com//7.2.3.1//EN
TZID:Europe/London
X-WR-TIMEZONE:Europe/London
BEGIN:VEVENT
UID:1-7087@westbourneforum.org.uk
DTSTART;TZID=Europe/London:20230613T100000
DTEND;TZID=Europe/London:20230613T110000
DTSTAMP:20230730T194405Z
URL:https://westbourneforum.org.uk/events/free-outdoor-yoga-in-paddington-
 2023-06-13/
SUMMARY:Free Outdoor Yoga in Paddington
DESCRIPTION:Only a few minutes from Paddington Station\, this free yoga cla
 ss is open and accessible to individuals of all abilities and walks of lif
 e on Tuesdays at 10 - 11 am throughout June\, July and August 2023.\n\nWhe
 ther you live\, work or are just visiting please join us. You may turn up 
 on the day or let us know you are coming by booking here.\n\nMats are prov
 ided but only as a bottom layer for padding and participants MUST bring th
 eir own yoga mat or covering to put on top.\n\nPlease bring minimal belong
 ings.\n\nIt’s always a good idea to bring a bottle of water.\n\nParticip
 ants will be asked to sign a disclaimer form on arrival or you can sign it
  here and bring it.\n\nThe sessions are weather dependent and you are advi
 sed to follow @inpaddington on Facebook and Instagram for the latest updat
 es.\n\nYoga in the Square is brought to you by PaddingtonNow BID in partne
 rship with Live Karma Yoga.
ATTACH;FMTTYPE=image/jpeg:https://i0.wp.com/westbourneforum.org.uk/wp-cont
 ent/uploads/2023/07/Free-Outdoor-Yoga-in-Paddington-header.webp?fit=800%2C
 445&ssl=1
LOCATION:Norfolk Square\, Norfolk Square\, London\, England\, W2 1RU\, West
 minster\, United Kingdom
GEO:51.51584;-0.173461
X-APPLE-STRUCTURED-LOCATION;VALUE=URI;X-ADDRESS=Norfolk Square\, London\, E
 ngland\, W2 1RU\, Westminster\, United Kingdom;X-APPLE-RADIUS=100;X-TITLE=
 Norfolk Square:geo:51.51584,-0.173461
ORGANIZER;CN="Westbourne Forum":MAILTO:westbourne-admin@westbourneforum.org.uk
END:VEVENT
BEGIN:VTIMEZONE
TZID:Europe/London
X-LIC-LOCATION:Europe/London
BEGIN:DAYLIGHT
DTSTART:20230326T020000
TZOFFSETFROM:+0000
TZOFFSETTO:+0100
TZNAME:BST
END:DAYLIGHT
END:VTIMEZONE
END:VCALENDAR