BEGIN:VCALENDAR
VERSION:2.0
PRODID:-//wp-events-plugin.com//7.2.3.1//EN
TZID:Europe/London
X-WR-TIMEZONE:Europe/London
BEGIN:VEVENT
UID:1-11870@westbourneforum.org.uk
DTSTART;TZID=Europe/London:20240618T193000
DTEND;TZID=Europe/London:20240618T193000
DTSTAMP:20240521T013856Z
URL:https://westbourneforum.org.uk/events/free-online-creative-writing-wor
 kshop-2024-06-18/
SUMMARY:Free online creative writing workshop
DESCRIPTION:\n\nFor the zoom link please email wellread@theplaygroundtheatr
 e.org.uk\n\n&nbsp\;\n\n
ATTACH;FMTTYPE=image/jpeg:https://i0.wp.com/westbourneforum.org.uk/wp-cont
 ent/uploads/2024/05/Free-online-creative-writing-workshop-banner.webp?fit=
 1063%2C591&ssl=1
ORGANIZER;CN="Westbourne Forum":MAILTO:westbourne-admin@westbourneforum.org.uk
END:VEVENT
BEGIN:VTIMEZONE
TZID:Europe/London
X-LIC-LOCATION:Europe/London
BEGIN:DAYLIGHT
DTSTART:20240331T020000
TZOFFSETFROM:+0000
TZOFFSETTO:+0100
TZNAME:BST
END:DAYLIGHT
END:VTIMEZONE
END:VCALENDAR