BEGIN:VCALENDAR
VERSION:2.0
PRODID:-//wp-events-plugin.com//7.2.3.1//EN
TZID:Europe/London
X-WR-TIMEZONE:Europe/London
BEGIN:VEVENT
UID:1-11859@westbourneforum.org.uk
DTSTART;TZID=Europe/London:20240520T170000
DTEND;TZID=Europe/London:20240520T190000
DTSTAMP:20240521T004727Z
URL:https://westbourneforum.org.uk/events/free-life-and-careers-wellbeing-
 coaching-2024-05-20/
SUMMARY:Free Life and Careers / Wellbeing Coaching
DESCRIPTION:\n\nFree life and wellbeing coaching in Church street library p
 lease feel free to join us\n\nEventbrite\n\nbendrealitycoaching@outlook.co
 m\n\n&nbsp\;\n\n
ATTACH;FMTTYPE=image/jpeg:https://i0.wp.com/westbourneforum.org.uk/wp-cont
 ent/uploads/2023/11/Free-Life-Careers-or-Wellbeing-Coaching-banner.webp?fi
 t=800%2C445&ssl=1
LOCATION:Church Street Library\, 67 Church Street\, London\, England\, NW8 
 8EU\, Westminster\, United Kingdom
GEO:51.523215;-0.170393
X-APPLE-STRUCTURED-LOCATION;VALUE=URI;X-ADDRESS=67 Church Street\, London\,
  England\, NW8 8EU\, Westminster\, United Kingdom;X-APPLE-RADIUS=100;X-TIT
 LE=Church Street Library:geo:51.523215,-0.170393
ORGANIZER;CN="Westbourne Forum":MAILTO:westbourne-admin@westbourneforum.org.uk
END:VEVENT
BEGIN:VTIMEZONE
TZID:Europe/London
X-LIC-LOCATION:Europe/London
BEGIN:DAYLIGHT
DTSTART:20240331T020000
TZOFFSETFROM:+0000
TZOFFSETTO:+0100
TZNAME:BST
END:DAYLIGHT
END:VTIMEZONE
END:VCALENDAR