BEGIN:VCALENDAR
VERSION:2.0
PRODID:-//wp-events-plugin.com//7.2.3.1//EN
TZID:Europe/London
X-WR-TIMEZONE:Europe/London
BEGIN:VEVENT
UID:1-6080@westbourneforum.org.uk
DTSTART;TZID=Europe/London:20230904T113000
DTEND;TZID=Europe/London:20230904T124500
DTSTAMP:20230713T181644Z
URL:https://westbourneforum.org.uk/events/free-adult-dance-classes-2023-09
 -04/
SUMMARY:Free Adult Dance Classes
DESCRIPTION:This programme is FREE and open to anyone aged 18+ living in th
 e boroughs of Brent\, Wandsworth and Westminster whose lives have been aff
 ected by mental health issues.\n\nRegardless of your skill level or backgr
 ound\, we warmly welcome everyone to join us.\n\nNo prior dance experience
  is necessary – all you need is enthusiasm and a willingness to explore 
 the world of dance.\n\n\n\n&nbsp\;
ATTACH;FMTTYPE=image/jpeg:https://i0.wp.com/westbourneforum.org.uk/wp-cont
 ent/uploads/2023/07/free-adult-dance-classes-header.webp?fit=800%2C445&ssl
 =1
LOCATION:Great Western Studios\, 65 Alfred Road\, \, London\, England\, W2 
 5EU\, Westminster\, United Kingdom
GEO:51.52117;-0.196331
X-APPLE-STRUCTURED-LOCATION;VALUE=URI;X-ADDRESS=65 Alfred Road\, \, London\
 , England\, W2 5EU\, Westminster\, United Kingdom;X-APPLE-RADIUS=100;X-TIT
 LE=Great Western Studios:geo:51.52117,-0.196331
ORGANIZER;CN="Westbourne Forum":MAILTO:westbourne-admin@westbourneforum.org.uk
END:VEVENT
BEGIN:VTIMEZONE
TZID:Europe/London
X-LIC-LOCATION:Europe/London
BEGIN:DAYLIGHT
DTSTART:20230326T020000
TZOFFSETFROM:+0000
TZOFFSETTO:+0100
TZNAME:BST
END:DAYLIGHT
END:VTIMEZONE
END:VCALENDAR