BEGIN:VCALENDAR
VERSION:2.0
PRODID:-//wp-events-plugin.com//7.2.3.1//EN
TZID:Europe/London
X-WR-TIMEZONE:Europe/London
BEGIN:VEVENT
UID:1-10974@westbourneforum.org.uk
DTSTART;TZID=Europe/London:20240410T100000
DTEND;TZID=Europe/London:20240410T150000
DTSTAMP:20240329T020235Z
URL:https://westbourneforum.org.uk/events/football-easter-haf-camp-with-bl
 oomsbury-2024-04-10/
SUMMARY:Football Easter HAF Camp with Bloomsbury
DESCRIPTION:PLEASE NOTE: This project is part of the Holiday Activities &a
 mp\; Food (HAF) Programme\, for young people in Westminster and Kensington
  &amp\; Chelsea who are eligible for benefits-related Free School Meals*\
 n\nBloomsbury’s Easter Football Camp is back for 2024! We aim to offer a
  fun and inclusive camp for kids of all skill levels to stay physically ac
 tive while having fun over the holiday.\n\nEach day of camp focuses on a d
 ifferent fundamental skill (ie. dribbling\, passing\, defending\, shooting
 ) with the week culminating in a tournament day on Friday. Also\, a free n
 utritionally complete lunch will be offered each day!\n\nAcademy players a
 re also welcome and encouraged to join this camp!\n\nIn addition to our st
 andard football offering we also have a number of fun and impactful experi
 ences ranging from football-based art workshops to mental wellbeing discus
 sions with professional footballers.\n\nAges 7 - 15\n\n**IMPORTANT HAF INF
 ORMATION**:\n\nIf your child is eligible for income-based free school meal
 s (pupil premium) and live in RBKC\, you can sign up for free using the co
 de “easterfsm” at checkout.\n\nSEND Friendly\nWe offer some 1:1 suppor
 t for children with Special Educational Needs &amp\; Disabilities at this 
 programme. Contact us to discuss how we can support your child.\n\nAny que
 stions about the project?\nCall 07724 608600 or email us at holidays@bl
 oomsburyfootball.com\n\nFurther Details\n\nBooking
ATTACH;FMTTYPE=image/jpeg:https://i0.wp.com/westbourneforum.org.uk/wp-cont
 ent/uploads/2024/03/Football-Easter-HAF-Camp-with-Bloomsbury-banner.webp?f
 it=800%2C445&ssl=1
LOCATION:Westway Sports and Fitness Centre\,  1 Crowthorne Road\, London\, 
 England\, W10 6RP\, Kensington and Chelsea\, United Kingdom
GEO:51.516015;-0.218876
X-APPLE-STRUCTURED-LOCATION;VALUE=URI;X-ADDRESS= 1 Crowthorne Road\, London
 \, England\, W10 6RP\, Kensington and Chelsea\, United Kingdom;X-APPLE-RAD
 IUS=100;X-TITLE=Westway Sports and Fitness Centre:geo:51.516015,-0.218876
ORGANIZER;CN="Westbourne Forum":MAILTO:westbourne-admin@westbourneforum.org.uk
END:VEVENT
BEGIN:VTIMEZONE
TZID:Europe/London
X-LIC-LOCATION:Europe/London
BEGIN:DAYLIGHT
DTSTART:20240331T020000
TZOFFSETFROM:+0000
TZOFFSETTO:+0100
TZNAME:BST
END:DAYLIGHT
END:VTIMEZONE
END:VCALENDAR