BEGIN:VCALENDAR
VERSION:2.0
PRODID:-//wp-events-plugin.com//7.2.3.1//EN
TZID:Europe/London
X-WR-TIMEZONE:Europe/London
BEGIN:VEVENT
UID:1-6920@westbourneforum.org.uk
DTSTART;TZID=Europe/London:20230803T100000
DTEND;TZID=Europe/London:20230803T150000
DTSTAMP:20230726T203324Z
URL:https://westbourneforum.org.uk/events/football-camp-2023-08-03/
SUMMARY:Football Camp
DESCRIPTION:PLEASE NOTE: This project is part of the Holiday Activities &a
 mp\; Food (HAF) Programme\, for young people in Westminster who are eligib
 le for Free School Meals.*\n\nWe will be providing a Football Camp for 5 -
  12yrs children and everyone is welcome! Fun filled with football games\, 
 drills\, skills and matches.\n\nRunning from the 25th July right the way u
 p to the end of the summer\, this is surely the place to be. 10 - 3 pm eve
 ry Tuesday - Friday\, please contact us on 020 7644 6880 or www.everyoneac
 tive.com to book.\n\nNearest bus stop: Kilburn Park Road KJ (16\, 98\, 33
 2) Carlton Vale MB (31\, 316\, 328)\nNearest tube stop: Maida Vale (Bakerl
 oo Line) Kilburn Park (Jubilee Line)\n\nContact email: paddingtoninfo@eve
 ryoneactive.com\nContact phone number: 020 7644 6880\n\nBooking required\n
 \nProject page\n\nwww.everyoneactive.com
ATTACH;FMTTYPE=image/jpeg:https://i0.wp.com/westbourneforum.org.uk/wp-cont
 ent/uploads/2023/07/Everyone-Active-WCC.webp?fit=800%2C445&ssl=1
LOCATION:Paddington Recreation Ground\, Maida Vale\, Westminster\, London\,
  W9 1PD\, England\, United Kingdom
GEO:51.530491;-0.191394
X-APPLE-STRUCTURED-LOCATION;VALUE=URI;X-ADDRESS=Maida Vale\, Westminster\, 
 London\, W9 1PD\, England\, United Kingdom;X-APPLE-RADIUS=100;X-TITLE=Padd
 ington Recreation Ground:geo:51.530491,-0.191394
ORGANIZER;CN="Westbourne Forum":MAILTO:westbourne-admin@westbourneforum.org.uk
END:VEVENT
BEGIN:VTIMEZONE
TZID:Europe/London
X-LIC-LOCATION:Europe/London
BEGIN:DAYLIGHT
DTSTART:20230326T020000
TZOFFSETFROM:+0000
TZOFFSETTO:+0100
TZNAME:BST
END:DAYLIGHT
END:VTIMEZONE
END:VCALENDAR