BEGIN:VCALENDAR
VERSION:2.0
PRODID:-//wp-events-plugin.com//7.2.3.1//EN
TZID:Europe/London
X-WR-TIMEZONE:Europe/London
BEGIN:VEVENT
UID:1-7080@westbourneforum.org.uk
DTSTART;TZID=Europe/London:20230808T180000
DTEND;TZID=Europe/London:20230808T190000
DTSTAMP:20230730T183826Z
URL:https://westbourneforum.org.uk/events/floating-fitness-bootcamp-with-j
 ames-colebrook-2023-08-08/
SUMMARY:Floating Fitness Bootcamp with James Colebrook
DESCRIPTION:Looking to get fit and energised while enjoying the beauty of L
 ondon's canals?\n\nJoin our free bootcamp classes taught by the well known
  fitness instructor James Colebrook.\n\nClasses will take place on our Flo
 ating Pocket Park\, London's first genuinely bespoke floating garden - a t
 ruly unique space to workout!\n\nSuitable for all fitness levels\, each cl
 ass will be HIIT focused on working to times rather than reps. Themes incl
 ude 'Tabata Sprints'\, 'Endurance to Sprints and 'No excercise off limits'
  with a warm up \, cool down and stretch to finish.\n\nWhether you're a fi
 tness enthusiast\, or just starting out\, our classes are open to people o
 f all abilities so don't miss the chance to sweat it out in one of London'
 s most unique and inspiring outdoor locations!
ATTACH;FMTTYPE=image/jpeg:https://i0.wp.com/westbourneforum.org.uk/wp-cont
 ent/uploads/2023/07/Merchant-Square-s-Floating-Fitness-Bootcamp-with-James
 -Colebrook-header.jpeg?fit=800%2C445&ssl=1
LOCATION:Floating Pocket Park\, Merchant Square\, London\, England\, W2 1AN
 \, Westminster\, United Kingdom
GEO:51.518823;-0.171321
X-APPLE-STRUCTURED-LOCATION;VALUE=URI;X-ADDRESS=Merchant Square\, London\, 
 England\, W2 1AN\, Westminster\, United Kingdom;X-APPLE-RADIUS=100;X-TITLE
 =Floating Pocket Park:geo:51.518823,-0.171321
ORGANIZER;CN="Westbourne Forum":MAILTO:westbourne-admin@westbourneforum.org.uk
END:VEVENT
BEGIN:VTIMEZONE
TZID:Europe/London
X-LIC-LOCATION:Europe/London
BEGIN:DAYLIGHT
DTSTART:20230326T020000
TZOFFSETFROM:+0000
TZOFFSETTO:+0100
TZNAME:BST
END:DAYLIGHT
END:VTIMEZONE
END:VCALENDAR