BEGIN:VCALENDAR
VERSION:2.0
PRODID:-//wp-events-plugin.com//7.2.3.1//EN
TZID:Europe/London
X-WR-TIMEZONE:Europe/London
BEGIN:VEVENT
UID:1-10078@westbourneforum.org.uk
DTSTART;TZID=Europe/London:20240215T160000
DTEND;TZID=Europe/London:20240215T180000
DTSTAMP:20240202T024934Z
URL:https://westbourneforum.org.uk/events/filipino-family-badminton-with-s
 port4health-2024-02-15/
SUMMARY:Filipino Family Badminton with Sport4Health
DESCRIPTION:Come along and join us for some fun badminton with other Filipi
 no families ( all genders\, ages and abilities welcomed )\n\nAges 11 - 25
 \n\nNearest bus stop: Rochester Row (U) or Warwick Way (T)\nNearest tube s
 top: Victoria\n\nContact email: info@sport4health.co.uk\n\nContact phone n
 umber: 07768 076 459\n\nBooking required.
ATTACH;FMTTYPE=image/jpeg:https://i0.wp.com/westbourneforum.org.uk/wp-cont
 ent/uploads/2024/02/Filipino-Family-Badminton-banner.webp?fit=800%2C445&ss
 l=1
LOCATION:Queen Mother Sports Centre\, 223 Vauxhall Bridge Road\, London\, E
 ngland\, SW1V 1EL\, Westminster\, United Kingdom
GEO:51.493701;-0.14052
X-APPLE-STRUCTURED-LOCATION;VALUE=URI;X-ADDRESS=223 Vauxhall Bridge Road\, 
 London\, England\, SW1V 1EL\, Westminster\, United Kingdom;X-APPLE-RADIUS=
 100;X-TITLE=Queen Mother Sports Centre:geo:51.493701,-0.14052
ORGANIZER;CN="Westbourne Forum":MAILTO:westbourne-admin@westbourneforum.org.uk
END:VEVENT
BEGIN:VTIMEZONE
TZID:Europe/London
X-LIC-LOCATION:Europe/London
BEGIN:STANDARD
DTSTART:20231029T010000
TZOFFSETFROM:+0100
TZOFFSETTO:+0000
TZNAME:GMT
END:STANDARD
END:VTIMEZONE
END:VCALENDAR