BEGIN:VCALENDAR
VERSION:2.0
PRODID:-//wp-events-plugin.com//7.2.3.1//EN
TZID:Europe/London
X-WR-TIMEZONE:Europe/London
BEGIN:VEVENT
UID:1-14483@westbourneforum.org.uk
DTSTART;TZID=Europe/London:20241107T120000
DTEND;TZID=Europe/London:20241107T120000
DTSTAMP:20241011T005327Z
URL:https://westbourneforum.org.uk/events/female-only-yoga-class-2024-11-0
 7/
SUMMARY:Female Only Yoga Class
DESCRIPTION:\n\nNO WALK INS\nBooking closes Wednesday\n\nWeekly Sign Up For
 m\n\ninfo@treasureboxingclub.com\n\nwww.treasureboxingclub.com\n\n
ATTACH;FMTTYPE=image/jpeg:https://i0.wp.com/westbourneforum.org.uk/wp-cont
 ent/uploads/2024/10/Female-Only-Yoga-Class-at-the-Moberly-banner.webp?fit=
 1077%2C599&ssl=1
LOCATION:Moberly Sports Centre\, 25 Chamberlayne Road\, Kensal Rise\, Londo
 n\, NW10 3NB\, England\, United Kingdom
GEO:51.530933;-0.216572
X-APPLE-STRUCTURED-LOCATION;VALUE=URI;X-ADDRESS=25 Chamberlayne Road\, Kens
 al Rise\, London\, NW10 3NB\, England\, United Kingdom;X-APPLE-RADIUS=100;
 X-TITLE=Moberly Sports Centre:geo:51.530933,-0.216572
ORGANIZER;CN="Westbourne Forum":MAILTO:westbourne-admin@westbourneforum.org.uk
END:VEVENT
BEGIN:VTIMEZONE
TZID:Europe/London
X-LIC-LOCATION:Europe/London
BEGIN:STANDARD
DTSTART:20241027T010000
TZOFFSETFROM:+0100
TZOFFSETTO:+0000
TZNAME:GMT
END:STANDARD
END:VTIMEZONE
END:VCALENDAR