BEGIN:VCALENDAR
VERSION:2.0
PRODID:-//wp-events-plugin.com//7.2.3.1//EN
TZID:Europe/London
X-WR-TIMEZONE:Europe/London
BEGIN:VEVENT
UID:1-13324@westbourneforum.org.uk
DTSTART;TZID=Europe/London:20240906T120000
DTEND;TZID=Europe/London:20240906T120000
DTSTAMP:20240902T231216Z
URL:https://westbourneforum.org.uk/events/female-only-pilates-with-treasur
 e-boxing-2024-09-06/
SUMMARY:Female only Pilates with Treasure Boxing
DESCRIPTION:\n\n Starting 6 September \n FEMALE ONLY PILATES \n\n\nFREE CLA
 SS | 13 YEARS OLD + | NO WALK INS\n\nWeekly Sign Up Form:\nwww.treasurebox
 ingclub.com/pages/female-only-pilates\n\ninfo@treasureboxingclub.com\n\n\n
ATTACH;FMTTYPE=image/jpeg:https://i0.wp.com/westbourneforum.org.uk/wp-cont
 ent/uploads/2024/07/Female-only-Pilates-with-Treasure-Boxing-banner.webp?f
 it=1080%2C601&ssl=1
LOCATION:Moberly Sports Centre\, 25 Chamberlayne Road\, Kensal Rise\, Londo
 n\, NW10 3NB\, England\, United Kingdom
GEO:51.530933;-0.216572
X-APPLE-STRUCTURED-LOCATION;VALUE=URI;X-ADDRESS=25 Chamberlayne Road\, Kens
 al Rise\, London\, NW10 3NB\, England\, United Kingdom;X-APPLE-RADIUS=100;
 X-TITLE=Moberly Sports Centre:geo:51.530933,-0.216572
ORGANIZER;CN="Westbourne Forum":MAILTO:westbourne-admin@westbourneforum.org.uk
END:VEVENT
BEGIN:VTIMEZONE
TZID:Europe/London
X-LIC-LOCATION:Europe/London
BEGIN:DAYLIGHT
DTSTART:20240331T020000
TZOFFSETFROM:+0000
TZOFFSETTO:+0100
TZNAME:BST
END:DAYLIGHT
END:VTIMEZONE
END:VCALENDAR