BEGIN:VCALENDAR
VERSION:2.0
PRODID:-//wp-events-plugin.com//7.2.3.1//EN
TZID:Europe/London
X-WR-TIMEZONE:Europe/London
BEGIN:VEVENT
UID:1-9967@westbourneforum.org.uk
DTSTART;TZID=Europe/London:20240110T170000
DTEND;TZID=Europe/London:20240110T174500
DTSTAMP:20240130T055234Z
URL:https://westbourneforum.org.uk/events/female-only-hiit-with-treasure-b
 oxing-2024-01-10/
SUMMARY:Female only Hiit with Treasure boxing
DESCRIPTION:info@treasureboxingclub.com
ATTACH;FMTTYPE=image/jpeg:https://i0.wp.com/westbourneforum.org.uk/wp-cont
 ent/uploads/2024/01/Female-only-Hiit-at-the-moberly-with-treasure-boxing-b
 anner.webp?fit=800%2C445&ssl=1
LOCATION:Moberly Sports Centre\, 25 Chamberlayne Road\, Kensal Rise\, Londo
 n\, NW10 3NB\, England\, United Kingdom
GEO:51.530933;-0.216572
X-APPLE-STRUCTURED-LOCATION;VALUE=URI;X-ADDRESS=25 Chamberlayne Road\, Kens
 al Rise\, London\, NW10 3NB\, England\, United Kingdom;X-APPLE-RADIUS=100;
 X-TITLE=Moberly Sports Centre:geo:51.530933,-0.216572
ORGANIZER;CN="Westbourne Forum":MAILTO:westbourne-admin@westbourneforum.org.uk
END:VEVENT
BEGIN:VTIMEZONE
TZID:Europe/London
X-LIC-LOCATION:Europe/London
BEGIN:STANDARD
DTSTART:20231029T010000
TZOFFSETFROM:+0100
TZOFFSETTO:+0000
TZNAME:GMT
END:STANDARD
END:VTIMEZONE
END:VCALENDAR