BEGIN:VCALENDAR
VERSION:2.0
PRODID:-//wp-events-plugin.com//7.2.3.1//EN
TZID:Europe/London
X-WR-TIMEZONE:Europe/London
BEGIN:VEVENT
UID:1-10380@westbourneforum.org.uk
DTSTART;TZID=Europe/London:20240218T163000
DTEND;TZID=Europe/London:20240218T183000
DTSTAMP:20240215T205908Z
URL:https://westbourneforum.org.uk/events/february-peoples-kitchen/
SUMMARY:February People's Kitchen
DESCRIPTION:\n\nPlease share this event with your friends in the Golborne a
 rea and beyond – everyone is welcome to join for the meal and music.
ATTACH;FMTTYPE=image/jpeg:https://i0.wp.com/westbourneforum.org.uk/wp-cont
 ent/uploads/2024/02/February-Peoples-Kitchen-banner.webp?fit=800%2C445&ssl
 =1
LOCATION:Panella\, 15 Golborne Road\, London\, England\, W10 5NY\, Kensingt
 on and Chelsea\, United Kingdom
GEO:51.523604;-0.206099
X-APPLE-STRUCTURED-LOCATION;VALUE=URI;X-ADDRESS=15 Golborne Road\, London\,
  England\, W10 5NY\, Kensington and Chelsea\, United Kingdom;X-APPLE-RADIU
 S=100;X-TITLE=Panella:geo:51.523604,-0.206099
ORGANIZER;CN="Westbourne Forum":MAILTO:westbourne-admin@westbourneforum.org.uk
END:VEVENT
BEGIN:VTIMEZONE
TZID:Europe/London
X-LIC-LOCATION:Europe/London
BEGIN:STANDARD
DTSTART:20231029T010000
TZOFFSETFROM:+0100
TZOFFSETTO:+0000
TZNAME:GMT
END:STANDARD
END:VTIMEZONE
END:VCALENDAR