BEGIN:VCALENDAR
VERSION:2.0
PRODID:-//wp-events-plugin.com//7.2.3.1//EN
TZID:Europe/London
X-WR-TIMEZONE:Europe/London
BEGIN:VEVENT
UID:1-14669@westbourneforum.org.uk
DTSTART;TZID=Europe/London:20241101T120000
DTEND;TZID=Europe/London:20241101T200000
DTSTAMP:20241014T195000Z
URL:https://westbourneforum.org.uk/events/feathers-october-half-term-holid
 ay-club-2024-11-01/
SUMMARY:Feathers October Half Term Holiday Club
DESCRIPTION:This October we’ve got a packed programme of activities for c
 hildren and young people aged 8 – 18.\n\nFrom 28th October until Novembe
 r\, Feathers Marylebone will open for 8 hours a day\, providing a fun\, sa
 fe &amp\; inspiring place for young people to relax\, meet their friends a
 nd get active\, with loads of activities on offer every single day!\n\nSEN
 D friendly\nWe have some training or experience of Special Educational Nee
 ds &amp\; Disabilities and are able to accommodate children with low-level
  needs\, we do not offer 1:1. Contact us to discuss how we can support you
 r child.\n\nBooking and further details\n\n020 7723 9167\nfeathers.charity
 \noffice@feathers.charity
ATTACH;FMTTYPE=image/jpeg:https://i0.wp.com/westbourneforum.org.uk/wp-cont
 ent/uploads/2024/10/Feathers-October-Half-Term-Holiday-Club-banner.webp?fi
 t=800%2C445&ssl=1
LOCATION:Feathers Marylebone\,  12 Rossmore Road\, London\, England\, NW1 6
 NX\, Westminster\, United Kingdom
GEO:51.5248;-0.164837
X-APPLE-STRUCTURED-LOCATION;VALUE=URI;X-ADDRESS= 12 Rossmore Road\, London\
 , England\, NW1 6NX\, Westminster\, United Kingdom;X-APPLE-RADIUS=100;X-TI
 TLE=Feathers Marylebone:geo:51.5248,-0.164837
ORGANIZER;CN="Westbourne Forum":MAILTO:westbourne-admin@westbourneforum.org.uk
END:VEVENT
BEGIN:VTIMEZONE
TZID:Europe/London
X-LIC-LOCATION:Europe/London
BEGIN:STANDARD
DTSTART:20241027T010000
TZOFFSETFROM:+0100
TZOFFSETTO:+0000
TZNAME:GMT
END:STANDARD
END:VTIMEZONE
END:VCALENDAR