BEGIN:VCALENDAR
VERSION:2.0
PRODID:-//wp-events-plugin.com//7.2.3.1//EN
TZID:Europe/London
X-WR-TIMEZONE:Europe/London
BEGIN:VEVENT
UID:1-6115@westbourneforum.org.uk
DTSTART;TZID=Europe/London:20230818T180000
DTEND;TZID=Europe/London:20230818T210000
DTSTAMP:20230712T004007Z
URL:https://westbourneforum.org.uk/events/feathers-marylebone-senior-youth
 -club-2023-08-18/
SUMMARY:Feathers Marylebone - Senior Youth Club
DESCRIPTION:#FeathersFriday\n\nFeathers is the place to be on a Friday nigh
 t - Sample some beats in the music studio\, play football or kick back in 
 our Rec area - It's always a vibe!\n\n&nbsp\;\n\nFurther information:\n\no
 urcity.org.uk/projects/details/feathers-marylebone-senior-youth-club\n\nfe
 athers.charity\n\n020 7723 9167
ATTACH;FMTTYPE=image/jpeg:https://i0.wp.com/westbourneforum.org.uk/wp-cont
 ent/uploads/2023/07/Join-our-Team-7.webp?fit=1280%2C720&ssl=1
LOCATION:Feathers Marylebone\,  12 Rossmore Road\, London\, England\, NW1 6
 NX\, Westminster\, United Kingdom
GEO:51.5248;-0.164837
X-APPLE-STRUCTURED-LOCATION;VALUE=URI;X-ADDRESS= 12 Rossmore Road\, London\
 , England\, NW1 6NX\, Westminster\, United Kingdom;X-APPLE-RADIUS=100;X-TI
 TLE=Feathers Marylebone:geo:51.5248,-0.164837
ORGANIZER;CN="Westbourne Forum":MAILTO:westbourne-admin@westbourneforum.org.uk
END:VEVENT
BEGIN:VTIMEZONE
TZID:Europe/London
X-LIC-LOCATION:Europe/London
BEGIN:DAYLIGHT
DTSTART:20230326T020000
TZOFFSETFROM:+0000
TZOFFSETTO:+0100
TZNAME:BST
END:DAYLIGHT
END:VTIMEZONE
END:VCALENDAR