BEGIN:VCALENDAR
VERSION:2.0
PRODID:-//wp-events-plugin.com//7.2.3.1//EN
TZID:Europe/London
X-WR-TIMEZONE:Europe/London
BEGIN:VEVENT
UID:1-11797@westbourneforum.org.uk
DTSTART;TZID=Europe/London:20240530T120000
DTEND;TZID=Europe/London:20240530T170000
DTSTAMP:20240513T234337Z
URL:https://westbourneforum.org.uk/events/feathers-marylebone-may-half-ter
 m-programme-2024-05-30/
SUMMARY:Feathers Marylebone - May Half Term Programme
DESCRIPTION:This Half Term\, we'll be providing you with a fun\, safe &amp\
 ; inspiring place to relax\, meet your mates and get active!\n\nWe're here
  for everyone and it's completely free to visit us. Our friendly team of y
 outh workers will be on hand to ensure you have a great time - So why not 
 just head down to the club or drop us a message for more info. Sign up for
  your free membership here - feathers.charity/ourwork/\n\nFootball - Music
  Studio - Basketball - Art - Media - Fitness - Cooking Trips - Competition
 s - Fashion - Games - Projects - And More...\n\nSEND FRIENDLY\nWe have som
 e training or experience of Special Educational Needs &amp\; Disabilities 
 and are able to accommodate children with low-level needs\, we do not offe
 r 1:1.\n\nContact us to discuss how we can support your child.\n\nNO NEED 
 TO BOOK\nGo to the activity when it is available.\n\nFurther Details\n\n&n
 bsp\;
ATTACH;FMTTYPE=image/jpeg:https://i0.wp.com/westbourneforum.org.uk/wp-cont
 ent/uploads/2024/05/may-2024-bank-holiday-banner.webp?fit=800%2C445&ssl=1
LOCATION:Feathers Marylebone\,  12 Rossmore Road\, London\, England\, NW1 6
 NX\, Westminster\, United Kingdom
GEO:51.5248;-0.164837
X-APPLE-STRUCTURED-LOCATION;VALUE=URI;X-ADDRESS= 12 Rossmore Road\, London\
 , England\, NW1 6NX\, Westminster\, United Kingdom;X-APPLE-RADIUS=100;X-TI
 TLE=Feathers Marylebone:geo:51.5248,-0.164837
ORGANIZER;CN="Westbourne Forum":MAILTO:westbourne-admin@westbourneforum.org.uk
END:VEVENT
BEGIN:VTIMEZONE
TZID:Europe/London
X-LIC-LOCATION:Europe/London
BEGIN:DAYLIGHT
DTSTART:20240331T020000
TZOFFSETFROM:+0000
TZOFFSETTO:+0100
TZNAME:BST
END:DAYLIGHT
END:VTIMEZONE
END:VCALENDAR