BEGIN:VCALENDAR
VERSION:2.0
PRODID:-//wp-events-plugin.com//7.2.3.1//EN
TZID:Europe/London
X-WR-TIMEZONE:Europe/London
BEGIN:VEVENT
UID:1-5752@westbourneforum.org.uk
DTSTART;TZID=Europe/London:20230406T141500
DTEND;TZID=Europe/London:20230406T164500
DTSTAMP:20230404T180011Z
URL:https://westbourneforum.org.uk/events/feathers-easter-holiday-programm
 e-2023-04-06/
SUMMARY:The Feathers Easter Holiday Programme
DESCRIPTION:PLEASE NOTE: This project is part of the Holiday Activities &am
 p\; Food (HAF) Programme\, for young people in Westminster who are eligibl
 e for Free School Meals.*\n\nThe main objectives of our youth work and com
 munity programmes are to provide opportunities for children and young peop
 le mainly 8 to 25 years in the Church Street and surrounding wards of West
 minster to develop in a positive way that engages them through inclusive -
  informal education\, sporting\, community outreach work\, cultural and co
 mmunity events and recreational activities. Day and residential trips are 
 organised so that the young people can participate in activities they woul
 d not normally experience. A range of accreditation (&amp\; credits toward
 s GCSE)\, training courses\, traineeships\, volunteering\, placements and 
 reparation opportunities are also on offer.\n\nDetails of free meal provid
 ed: Self service snack &amp\; refreshments\, free meals and group cooking 
 session\n\nVenue name and address: The Feathers Marylebone (formerly the F
 ourth feathers Youth and Community Centre) 12 Rossmore Road London NW1 6NX
 \n\nNearest bus stop: 139\, 189 and 2\, 18\, 113\nNearest tube stop: Maryl
 ebone\n\nContact email: office@feathersassociation.org.uk\nContact phone n
 umber: 020 7723 9167\n\n*Cost for non-Free School Meals Children and Young
  People: Free\n\nNo Booking required\, but membership registration require
 d\n\nAges: 7 - 16\n\nActivity by: The Feathers Assosiation
ATTACH;FMTTYPE=image/jpeg:https://i0.wp.com/westbourneforum.org.uk/wp-cont
 ent/uploads/2023/04/Feathers-Easter-Holiday-Programme-header.webp?fit=800%
 2C445&ssl=1
LOCATION:Feathers Marylebone\,  12 Rossmore Road\, London\, England\, NW1 6
 NX\, Westminster\, United Kingdom
GEO:51.5248;-0.164837
X-APPLE-STRUCTURED-LOCATION;VALUE=URI;X-ADDRESS= 12 Rossmore Road\, London\
 , England\, NW1 6NX\, Westminster\, United Kingdom;X-APPLE-RADIUS=100;X-TI
 TLE=Feathers Marylebone:geo:51.5248,-0.164837
ORGANIZER;CN="Westbourne Forum":MAILTO:westbourne-admin@westbourneforum.org.uk
END:VEVENT
BEGIN:VTIMEZONE
TZID:Europe/London
X-LIC-LOCATION:Europe/London
BEGIN:DAYLIGHT
DTSTART:20230326T020000
TZOFFSETFROM:+0000
TZOFFSETTO:+0100
TZNAME:BST
END:DAYLIGHT
END:VTIMEZONE
END:VCALENDAR