BEGIN:VCALENDAR
VERSION:2.0
PRODID:-//wp-events-plugin.com//7.2.3.1//EN
TZID:Europe/London
X-WR-TIMEZONE:Europe/London
BEGIN:VEVENT
UID:1-7388@westbourneforum.org.uk
DTSTART;TZID=Europe/London:20231001T100000
DTEND;TZID=Europe/London:20231001T123000
DTSTAMP:20230907T172546Z
URL:https://westbourneforum.org.uk/events/family-sundays/
SUMMARY:Family Sundays
DESCRIPTION:Family Sundays are events that take place on Sundays at The Roy
 al Opera House. They put on a mixture of different activities for children
  and young people in morning and afternoon sessions running from 10.00-12.
 30 and 13.30 – 16.00. Their aim is to offer an opportunity to discover o
 pera\, ballet with fun-packed creative activities suitable for all ages in
  a warm\, friendly and relaxed environment.\n\nEach session lasts 2.5 hour
 s and activities run in different areas of the building at the same time. 
 (No activities take place in the main auditorium or theatre)\n\nThe activi
 ties they run are different but always inspired by operas and ballets.\n\n
 Activities include:\n\n 	Singing/dancing workshops\n 	Dance and music perf
 ormances\n 	Craft workshops\n 	Dressing up\n\nOctober Dates: \n\nSunday 1
 st and 22nd October: Curtain Up \n\nInformation on signing up: \n\nExpre
 ssion of interest forms for all events will be open for applications 6 wee
 ks before each event date.\n\nEach form will close 3 weeks prior to the ev
 ent so that tickets can be allocated.\n\nIf you are successful\, you will 
 receive an email confirming your ticket allocation directly from The Royal
  Opera House. Please respond to confirm your tickets.\n\nOnce this respons
 e has been received\, you will receive further information on how to colle
 ct your tickets on the event day.\n\nBooking Form
ATTACH;FMTTYPE=image/jpeg:https://i0.wp.com/westbourneforum.org.uk/wp-cont
 ent/uploads/2023/09/City-Lions-at-the-Royal-Opera-House-banner-4.webp?fit=
 800%2C445&ssl=1
LOCATION:Royal Opera House\, Bow Street\, London\, England\, WC2E 9DD\, Wes
 tminster\, United Kingdom
GEO:51.513046;-0.122679
X-APPLE-STRUCTURED-LOCATION;VALUE=URI;X-ADDRESS=Bow Street\, London\, Engla
 nd\, WC2E 9DD\, Westminster\, United Kingdom;X-APPLE-RADIUS=100;X-TITLE=Ro
 yal Opera House:geo:51.513046,-0.122679
ORGANIZER;CN="Westbourne Forum":MAILTO:westbourne-admin@westbourneforum.org.uk
END:VEVENT
BEGIN:VTIMEZONE
TZID:Europe/London
X-LIC-LOCATION:Europe/London
BEGIN:DAYLIGHT
DTSTART:20230326T020000
TZOFFSETFROM:+0000
TZOFFSETTO:+0100
TZNAME:BST
END:DAYLIGHT
END:VTIMEZONE
END:VCALENDAR