BEGIN:VCALENDAR
VERSION:2.0
PRODID:-//wp-events-plugin.com//7.2.3.1//EN
TZID:Europe/London
X-WR-TIMEZONE:Europe/London
BEGIN:VEVENT
UID:1-8657@westbourneforum.org.uk
DTSTART;TZID=Europe/London:20231027T090000
DTEND;TZID=Europe/London:20231027T130000
DTSTAMP:20231022T024145Z
URL:https://westbourneforum.org.uk/events/family-health-popup/
SUMMARY:Family Health Popup
DESCRIPTION:
ATTACH;FMTTYPE=image/jpeg:https://i0.wp.com/westbourneforum.org.uk/wp-cont
 ent/uploads/2023/10/Family-Health-Popup-vanner.webp?fit=800%2C445&ssl=1
LOCATION:The Stowe Centre\, 258 Harrow Road\, Westminster\, London\, W2 5ES
 \, England\, United Kingdom
GEO:51.520203;-0.190324
X-APPLE-STRUCTURED-LOCATION;VALUE=URI;X-ADDRESS=258 Harrow Road\, Westminst
 er\, London\, W2 5ES\, England\, United Kingdom;X-APPLE-RADIUS=100;X-TITLE
 =The Stowe Centre:geo:51.520203,-0.190324
ORGANIZER;CN="Westbourne Forum":MAILTO:westbourne-admin@westbourneforum.org.uk
END:VEVENT
BEGIN:VTIMEZONE
TZID:Europe/London
X-LIC-LOCATION:Europe/London
BEGIN:DAYLIGHT
DTSTART:20230326T020000
TZOFFSETFROM:+0000
TZOFFSETTO:+0100
TZNAME:BST
END:DAYLIGHT
END:VTIMEZONE
END:VCALENDAR