BEGIN:VCALENDAR
VERSION:2.0
PRODID:-//wp-events-plugin.com//7.2.3.1//EN
TZID:Europe/London
X-WR-TIMEZONE:Europe/London
BEGIN:VEVENT
UID:1-14929@westbourneforum.org.uk
DTSTART;TZID=Europe/London:20241207T133000
DTEND;TZID=Europe/London:20241207T143000
DTSTAMP:20241126T012926Z
URL:https://westbourneforum.org.uk/events/family-comedy-hour/
SUMMARY:Family Comedy Hour
DESCRIPTION:\n\nwww.craic.health\n\n&nbsp\;\n\n&nbsp\;\n\n&nbsp\;\n\n
ATTACH;FMTTYPE=image/jpeg:https://i0.wp.com/westbourneforum.org.uk/wp-cont
 ent/uploads/2024/11/Family-Comedy-Hour-banner.webp?fit=1414%2C786&ssl=1
LOCATION:Church Street Library\, 67 Church Street\, London\, England\, NW8 
 8EU\, Westminster\, United Kingdom
GEO:51.523215;-0.170393
X-APPLE-STRUCTURED-LOCATION;VALUE=URI;X-ADDRESS=67 Church Street\, London\,
  England\, NW8 8EU\, Westminster\, United Kingdom;X-APPLE-RADIUS=100;X-TIT
 LE=Church Street Library:geo:51.523215,-0.170393
ORGANIZER;CN="Westbourne Forum":MAILTO:westbourne-admin@westbourneforum.org.uk
END:VEVENT
BEGIN:VTIMEZONE
TZID:Europe/London
X-LIC-LOCATION:Europe/London
BEGIN:STANDARD
DTSTART:20241027T010000
TZOFFSETFROM:+0100
TZOFFSETTO:+0000
TZNAME:GMT
END:STANDARD
END:VTIMEZONE
END:VCALENDAR