BEGIN:VCALENDAR
VERSION:2.0
PRODID:-//wp-events-plugin.com//7.2.3.1//EN
TZID:Europe/London
X-WR-TIMEZONE:Europe/London
BEGIN:VEVENT
UID:1-6908@westbourneforum.org.uk
DTSTART;TZID=Europe/London:20230726T103000
DTEND;TZID=Europe/London:20230726T143000
DTSTAMP:20230725T024645Z
URL:https://westbourneforum.org.uk/events/experiment-transitions-2023-07-2
 6/
SUMMARY:Experiment Transitions
DESCRIPTION:PLEASE NOTE: This project is part of the Holiday Activities &a
 mp\; Food (HAF) Programme\, for young people in Westminster who are eligib
 le for Free School Meals.*\n\nAged 6 - 12 year?\nCome along and express yo
 ur creativity with DreamArts and Shobana Jeyasingh Dance!\nFree for those 
 who live\, study or work in Westminster.\n\nEnthusiasm more important than
  experience!\n\nDreamarts\n\n&nbsp\;
ATTACH;FMTTYPE=image/jpeg:https://i0.wp.com/westbourneforum.org.uk/wp-cont
 ent/uploads/2023/07/Flyer-Summer-Half-Term-23-1_2023-06-28-161758_ueaf-hea
 der.webp?fit=800%2C445&ssl=1
LOCATION:Pimlico Academy\, 36 Lupus Street\, London\, England\, SW1V 3AT\, 
 Westminster\, United Kingdom
GEO:51.487994;-0.138085
X-APPLE-STRUCTURED-LOCATION;VALUE=URI;X-ADDRESS=36 Lupus Street\, London\, 
 England\, SW1V 3AT\, Westminster\, United Kingdom;X-APPLE-RADIUS=100;X-TIT
 LE=Pimlico Academy:geo:51.487994,-0.138085
ORGANIZER;CN="Westbourne Forum":MAILTO:westbourne-admin@westbourneforum.org.uk
END:VEVENT
BEGIN:VTIMEZONE
TZID:Europe/London
X-LIC-LOCATION:Europe/London
BEGIN:DAYLIGHT
DTSTART:20230326T020000
TZOFFSETFROM:+0000
TZOFFSETTO:+0100
TZNAME:BST
END:DAYLIGHT
END:VTIMEZONE
END:VCALENDAR