BEGIN:VCALENDAR
VERSION:2.0
PRODID:-//wp-events-plugin.com//7.2.3.1//EN
TZID:Europe/London
X-WR-TIMEZONE:Europe/London
BEGIN:VEVENT
UID:1-6898@westbourneforum.org.uk
DTSTART;TZID=Europe/London:20230804T110000
DTEND;TZID=Europe/London:20230804T150000
DTSTAMP:20230725T021013Z
URL:https://westbourneforum.org.uk/events/experiment-create/
SUMMARY:Experiment Create
DESCRIPTION:PLEASE NOTE: This project is part of the Holiday Activities &a
 mp\; Food (HAF) Programme\, for young people in Westminster who are eligib
 le for Free School Meals.*\n\nAged 6 - 12 year? Come along and express you
 r creativity with DreamArts and Shobana Jeyasingh Dance!\n\nFree for those
  who live\, study or work in Westminster.\n\nEnthusiasm more important tha
 n experience\n\nProject Website\n\nDream Arts
ATTACH;FMTTYPE=image/jpeg:https://i0.wp.com/westbourneforum.org.uk/wp-cont
 ent/uploads/2023/07/Flyer-Summer-Half-Term-23-1_2023-06-28-161758_ueaf-hea
 der.webp?fit=800%2C445&ssl=1
LOCATION:Two Temple Place\, 2 Temple Place\, London\, England\, WC2R 3BD\, 
 Westminster\, United Kingdom
GEO:51.511601;-0.112247
X-APPLE-STRUCTURED-LOCATION;VALUE=URI;X-ADDRESS=2 Temple Place\, London\, E
 ngland\, WC2R 3BD\, Westminster\, United Kingdom;X-APPLE-RADIUS=100;X-TITL
 E=Two Temple Place:geo:51.511601,-0.112247
ORGANIZER;CN="Westbourne Forum":MAILTO:westbourne-admin@westbourneforum.org.uk
END:VEVENT
BEGIN:VTIMEZONE
TZID:Europe/London
X-LIC-LOCATION:Europe/London
BEGIN:DAYLIGHT
DTSTART:20230326T020000
TZOFFSETFROM:+0000
TZOFFSETTO:+0100
TZNAME:BST
END:DAYLIGHT
END:VTIMEZONE
END:VCALENDAR