BEGIN:VCALENDAR
VERSION:2.0
PRODID:-//wp-events-plugin.com//7.2.3.1//EN
TZID:Europe/London
X-WR-TIMEZONE:Europe/London
BEGIN:VEVENT
UID:1-11758@westbourneforum.org.uk
DTSTART;TZID=Europe/London:20240517T093000
DTEND;TZID=Europe/London:20240517T130000
DTSTAMP:20240508T193919Z
URL:https://westbourneforum.org.uk/events/everyone-is-welcome-to-come-for-
 a-walk/
SUMMARY:Everyone Is Welcome To Come For A Walk
DESCRIPTION:\n\nCarjezBryan@everyoneactive.com\n\nWebsite | Facebook | X / 
 Twitter | Instagram
ATTACH;FMTTYPE=image/jpeg:https://i0.wp.com/westbourneforum.org.uk/wp-cont
 ent/uploads/2024/05/Everyone-is-welcome-to-come-for-a-walk-3.webp?fit=800%
 2C445&ssl=1
LOCATION:Paddington Recreation Ground\, Maida Vale\, Westminster\, London\,
  W9 1PD\, England\, United Kingdom
GEO:51.530491;-0.191394
X-APPLE-STRUCTURED-LOCATION;VALUE=URI;X-ADDRESS=Maida Vale\, Westminster\, 
 London\, W9 1PD\, England\, United Kingdom;X-APPLE-RADIUS=100;X-TITLE=Padd
 ington Recreation Ground:geo:51.530491,-0.191394
ORGANIZER;CN="Westbourne Forum":MAILTO:westbourne-admin@westbourneforum.org.uk
END:VEVENT
BEGIN:VTIMEZONE
TZID:Europe/London
X-LIC-LOCATION:Europe/London
BEGIN:DAYLIGHT
DTSTART:20240331T020000
TZOFFSETFROM:+0000
TZOFFSETTO:+0100
TZNAME:BST
END:DAYLIGHT
END:VTIMEZONE
END:VCALENDAR