BEGIN:VCALENDAR
VERSION:2.0
PRODID:-//wp-events-plugin.com//7.2.3.1//EN
TZID:Europe/London
X-WR-TIMEZONE:Europe/London
BEGIN:VEVENT
UID:1-14838@westbourneforum.org.uk
DTSTART;TZID=Europe/London:20241231T161500
DTEND;TZID=Europe/London:20241231T174500
DTSTAMP:20241115T055830Z
URL:https://westbourneforum.org.uk/events/enterprise-course-2024-12-31/
SUMMARY:Enterprise Course
DESCRIPTION:Explore creative thinking\, pick-up employability skills &amp\;
  enjoy a challenge where you set up your own business!\n\nThe knowledge &a
 mp\; skills you develop are transferable to employment &amp\; further educ
 ation\, &amp\; useful if you take a business related course or training la
 ter on.\n\nYou may choose to pursue your business concept\, which could op
 en the door to starting your own company or being self employed.\n\nAges 1
 4 - 19\n\nFree\n\nFurther Details and Sign Up form\n\nOur City\n\nUnloc Ch
 angemaker Studios\n\nContact dom@unloc.org.uk
ATTACH;FMTTYPE=image/jpeg:https://i0.wp.com/westbourneforum.org.uk/wp-cont
 ent/uploads/2024/10/Enterprise-Course.webp?fit=800%2C445&ssl=1
LOCATION:City of Westminster College\, Elgin Avenue\, London\, England\, W9
  2NR\, Westminster\, United Kingdom
GEO:51.527593;-0.191547
X-APPLE-STRUCTURED-LOCATION;VALUE=URI;X-ADDRESS=Elgin Avenue\, London\, Eng
 land\, W9 2NR\, Westminster\, United Kingdom;X-APPLE-RADIUS=100;X-TITLE=Ci
 ty of Westminster College:geo:51.527593,-0.191547
ORGANIZER;CN="Westbourne Forum":MAILTO:westbourne-admin@westbourneforum.org.uk
END:VEVENT
BEGIN:VTIMEZONE
TZID:Europe/London
X-LIC-LOCATION:Europe/London
BEGIN:STANDARD
DTSTART:20241027T010000
TZOFFSETFROM:+0100
TZOFFSETTO:+0000
TZNAME:GMT
END:STANDARD
END:VTIMEZONE
END:VCALENDAR