BEGIN:VCALENDAR
VERSION:2.0
PRODID:-//wp-events-plugin.com//7.2.3.1//EN
TZID:Europe/London
X-WR-TIMEZONE:Europe/London
BEGIN:VEVENT
UID:1-5362@westbourneforum.org.uk
DTSTART;TZID=Europe/London:20230412T160000
DTEND;TZID=Europe/London:20230412T180000
DTSTAMP:20230201T042001Z
URL:https://westbourneforum.org.uk/events/enterprise-academy-2023-04-12/
SUMMARY:Enterprise Academy
DESCRIPTION:Explore creative thinking\, pick-up employability skills &amp\;
  enjoy a challenge where you set up your own business!\n\nThe knowledge &a
 mp\; skills you develop are transferable to employment &amp\; further educ
 ation\, and useful if you take a business related course or training later
  on.\n\nYou may choose to pursue your business concept\, which could open 
 the door to starting your own company or being self employed.
ATTACH;FMTTYPE=image/jpeg:https://i0.wp.com/westbourneforum.org.uk/wp-cont
 ent/uploads/2023/02/Unloc-Enterprise-Academy-poster-WCC-version.pdf-1-head
 er.webp?fit=800%2C445&ssl=1
LOCATION:City of Westminster College\, Elgin Avenue\, London\, England\, W9
  2NR\, Westminster\, United Kingdom
GEO:51.527593;-0.191547
X-APPLE-STRUCTURED-LOCATION;VALUE=URI;X-ADDRESS=Elgin Avenue\, London\, Eng
 land\, W9 2NR\, Westminster\, United Kingdom;X-APPLE-RADIUS=100;X-TITLE=Ci
 ty of Westminster College:geo:51.527593,-0.191547
ORGANIZER;CN="Westbourne Forum":MAILTO:westbourne-admin@westbourneforum.org.uk
END:VEVENT
BEGIN:VTIMEZONE
TZID:Europe/London
X-LIC-LOCATION:Europe/London
BEGIN:DAYLIGHT
DTSTART:20230326T020000
TZOFFSETFROM:+0000
TZOFFSETTO:+0100
TZNAME:BST
END:DAYLIGHT
END:VTIMEZONE
END:VCALENDAR