BEGIN:VCALENDAR
VERSION:2.0
PRODID:-//wp-events-plugin.com//7.2.3.1//EN
TZID:Europe/London
X-WR-TIMEZONE:Europe/London
BEGIN:VEVENT
UID:1-5656@westbourneforum.org.uk
DTSTART;TZID=Europe/London:20230504T140000
DTEND;TZID=Europe/London:20230504T160000
DTSTAMP:20230316T183302Z
URL:https://westbourneforum.org.uk/events/english-conversation-class-2023-
 05-04/
SUMMARY:English Conversation Class
DESCRIPTION:
ATTACH;FMTTYPE=image/jpeg:https://i0.wp.com/westbourneforum.org.uk/wp-cont
 ent/uploads/2023/03/english-conversation-class-header.webp?fit=936%2C520&s
 sl=1
LOCATION:Derry Hall\, Church Street Estate\, off Penfold Street\, London\, 
 NW8 8HJ\, Westminster\, United Kingdom
GEO:51.523109;-0.172271
X-APPLE-STRUCTURED-LOCATION;VALUE=URI;X-ADDRESS=Church Street Estate\, off 
 Penfold Street\, London\, NW8 8HJ\, Westminster\, United Kingdom;X-APPLE-R
 ADIUS=100;X-TITLE=Derry Hall:geo:51.523109,-0.172271
ORGANIZER;CN="Westbourne Forum":MAILTO:westbourne-admin@westbourneforum.org.uk
END:VEVENT
BEGIN:VTIMEZONE
TZID:Europe/London
X-LIC-LOCATION:Europe/London
BEGIN:DAYLIGHT
DTSTART:20230326T020000
TZOFFSETFROM:+0000
TZOFFSETTO:+0100
TZNAME:BST
END:DAYLIGHT
END:VTIMEZONE
END:VCALENDAR