BEGIN:VCALENDAR
VERSION:2.0
PRODID:-//wp-events-plugin.com//7.2.3.1//EN
TZID:Europe/London
X-WR-TIMEZONE:Europe/London
BEGIN:VEVENT
UID:1-6415@westbourneforum.org.uk
DTSTART;TZID=Europe/London:20230803T100000
DTEND;TZID=Europe/London:20230803T150000
DTSTAMP:20230713T200634Z
URL:https://westbourneforum.org.uk/events/edutain-summer-camp-2023-08-03/
SUMMARY:Edutain Summer Camp
DESCRIPTION:LEASE NOTE: This project is part of the Holiday Activities &am
 p\; Food (HAF) Programme\, for young people in Westminster who are eligibl
 e for Free School Meals.*\n\nEDUTAIN is a holiday provision derived from t
 he concept to EDUcate and enterTAIN young people during the Summer Holiday
 s. The programme is suitable to all young people living in Westminster and
  surrounding boroughs. We facilitate a mixture of activities such as tenni
 s\, dodgeball\, football\, swimming\, dance alongside a host of other mult
 i-skills games. And at the end of each week\, we organise trips and take c
 hildren Ice-skating\, bowling\, jump parks and have planned a special trip
  this Summer!\n\nDetails of free meal provided: Choice of either cheese or
  halal chicken salad sandwich with or without mayonnaise. Meal comes with 
 fresh juice\, fruit\, healthy yogurt and crisp.\n\nNearest bus stop: 18 an
 d 36\nNearest tube stop: Royal Oak\n\nContact email: ryan.denys@sportwestm
 inster.org\nContact phone number: 07956 956 167\n\nCost for non-Free Schoo
 l Meals Children and Young People: £1 per day\n\nBooking Required
ATTACH;FMTTYPE=image/jpeg:https://i0.wp.com/westbourneforum.org.uk/wp-cont
 ent/uploads/2023/07/fd.webp?fit=800%2C445&ssl=1
LOCATION:Academy Sport\, Torquay Street\, London\, England\, W2 5EW\, Westm
 inster\, United Kingdom
GEO:51.520158;-0.19229
X-APPLE-STRUCTURED-LOCATION;VALUE=URI;X-ADDRESS=Torquay Street\, London\, E
 ngland\, W2 5EW\, Westminster\, United Kingdom;X-APPLE-RADIUS=100;X-TITLE=
 Academy Sport:geo:51.520158,-0.19229
ORGANIZER;CN="Westbourne Forum":MAILTO:westbourne-admin@westbourneforum.org.uk
END:VEVENT
BEGIN:VTIMEZONE
TZID:Europe/London
X-LIC-LOCATION:Europe/London
BEGIN:DAYLIGHT
DTSTART:20230326T020000
TZOFFSETFROM:+0000
TZOFFSETTO:+0100
TZNAME:BST
END:DAYLIGHT
END:VTIMEZONE
END:VCALENDAR